BEGIN:VCALENDAR
VERSION:2.0
PRODID:-//Antigua e Ilustre Hermandad del Santísimo Sacramento, María Stma. de las Nieves y Ánimas Benditas del Purgatorio y Pontificia y Real Archicofradía de Nazarenos de Nuestro Padre Jesús de las Tres Caídas, Nuestra Señora de Loreto y Señor San Isidoro - ECPv6.15.20//NONSGML v1.0//EN
CALSCALE:GREGORIAN
METHOD:PUBLISH
X-WR-CALNAME:Antigua e Ilustre Hermandad del Santísimo Sacramento, María Stma. de las Nieves y Ánimas Benditas del Purgatorio y Pontificia y Real Archicofradía de Nazarenos de Nuestro Padre Jesús de las Tres Caídas, Nuestra Señora de Loreto y Señor San Isidoro
X-ORIGINAL-URL:https://trescaidas.org
X-WR-CALDESC:Eventos para Antigua e Ilustre Hermandad del Santísimo Sacramento, María Stma. de las Nieves y Ánimas Benditas del Purgatorio y Pontificia y Real Archicofradía de Nazarenos de Nuestro Padre Jesús de las Tres Caídas, Nuestra Señora de Loreto y Señor San Isidoro
REFRESH-INTERVAL;VALUE=DURATION:PT1H
X-Robots-Tag:noindex
X-PUBLISHED-TTL:PT1H
BEGIN:VTIMEZONE
TZID:Europe/Madrid
BEGIN:DAYLIGHT
TZOFFSETFROM:+0100
TZOFFSETTO:+0200
TZNAME:CEST
DTSTART:20180325T010000
END:DAYLIGHT
BEGIN:STANDARD
TZOFFSETFROM:+0200
TZOFFSETTO:+0100
TZNAME:CET
DTSTART:20181028T010000
END:STANDARD
BEGIN:DAYLIGHT
TZOFFSETFROM:+0100
TZOFFSETTO:+0200
TZNAME:CEST
DTSTART:20190331T010000
END:DAYLIGHT
BEGIN:STANDARD
TZOFFSETFROM:+0200
TZOFFSETTO:+0100
TZNAME:CET
DTSTART:20191027T010000
END:STANDARD
BEGIN:DAYLIGHT
TZOFFSETFROM:+0100
TZOFFSETTO:+0200
TZNAME:CEST
DTSTART:20200329T010000
END:DAYLIGHT
BEGIN:STANDARD
TZOFFSETFROM:+0200
TZOFFSETTO:+0100
TZNAME:CET
DTSTART:20201025T010000
END:STANDARD
END:VTIMEZONE
BEGIN:VEVENT
DTSTART;TZID=Europe/Madrid:20190503T220000
DTEND;TZID=Europe/Madrid:20190503T230000
DTSTAMP:20260420T153328
CREATED:20190429T075300Z
LAST-MODIFIED:20190429T075300Z
UID:16602-1556920800-1556924400@trescaidas.org
SUMMARY:MISA SOLEMNE EN RITO HISPANO MOZÁRABE EN HONOR DE SAN ISIDORO DE SEVILLA
DESCRIPTION:
URL:https://trescaidas.org/agenda/misa-solemne-en-rito-hispano-mozarabe-en-honor-de-san-isidoro-de-sevilla/
CATEGORIES:Agenda
END:VEVENT
BEGIN:VEVENT
DTSTART;TZID=Europe/Madrid:20190421T150000
DTEND;TZID=Europe/Madrid:20190421T160000
DTSTAMP:20260420T153328
CREATED:20181214T173554Z
LAST-MODIFIED:20181214T173554Z
UID:16366-1555858800-1555862400@trescaidas.org
SUMMARY:Domingo de Resurrección. Misa Solemne de Cumplimiento Pascual
DESCRIPTION:
URL:https://trescaidas.org/agenda/domingo-de-resurreccion-misa-solemne-de-cumplimiento-pascual-2/
CATEGORIES:Agenda
END:VEVENT
BEGIN:VEVENT
DTSTART;TZID=Europe/Madrid:20190420T220000
DTEND;TZID=Europe/Madrid:20190420T230000
DTSTAMP:20260420T153328
CREATED:20181214T173422Z
LAST-MODIFIED:20181214T173422Z
UID:16365-1555797600-1555801200@trescaidas.org
SUMMARY:Sábado Santo. Vigilia Pascual
DESCRIPTION:
URL:https://trescaidas.org/agenda/sabado-santo-vigilia-pascual-2/
CATEGORIES:Agenda
END:VEVENT
BEGIN:VEVENT
DTSTART;TZID=Europe/Madrid:20190419T020000
DTEND;TZID=Europe/Madrid:20190419T150000
DTSTAMP:20260420T153328
CREATED:20181214T173320Z
LAST-MODIFIED:20181214T173320Z
UID:16364-1555639200-1555686000@trescaidas.org
SUMMARY:VIERNES SANTO. Acción Litúrgica y por la tarde Estación de Penitencia a la S.M.I.C de Sevilla.
DESCRIPTION:
URL:https://trescaidas.org/agenda/viernes-santo-accion-liturgica-y-por-la-tarde-estacion-de-penitencia-a-la-s-m-i-c-de-sevilla/
CATEGORIES:Agenda
END:VEVENT
BEGIN:VEVENT
DTSTART;TZID=Europe/Madrid:20190418T190000
DTEND;TZID=Europe/Madrid:20190418T200000
DTSTAMP:20260420T153328
CREATED:20181214T173055Z
LAST-MODIFIED:20181214T173108Z
UID:16363-1555614000-1555617600@trescaidas.org
SUMMARY:Jueves Santo. Misa ”In Coena Domine” y Adoración Eucarística en el Sagrario- Monumento
DESCRIPTION:
URL:https://trescaidas.org/agenda/jueves-santo-misa-in-coena-domine-y-adoracion-eucaristica-en-el-sagrario-monumento/
CATEGORIES:Agenda
END:VEVENT
BEGIN:VEVENT
DTSTART;TZID=Europe/Madrid:20190414T133000
DTEND;TZID=Europe/Madrid:20190414T143000
DTSTAMP:20260420T153328
CREATED:20181209T174334Z
LAST-MODIFIED:20181209T174334Z
UID:16355-1555248600-1555252200@trescaidas.org
SUMMARY:DOMINGO DE RAMOS. PROCESIÓN DE PALMAS Y SANTA MISA
DESCRIPTION:
URL:https://trescaidas.org/agenda/domingo-de-ramos-procesion-de-palmas-y-santa-misa-2/
CATEGORIES:Agenda
END:VEVENT
BEGIN:VEVENT
DTSTART;TZID=Europe/Madrid:20190412T220000
DTEND;TZID=Europe/Madrid:20190412T230000
DTSTAMP:20260420T153328
CREATED:20181209T174149Z
LAST-MODIFIED:20181209T174149Z
UID:16354-1555106400-1555110000@trescaidas.org
SUMMARY:MISA ANTE NTRA. SRA. DE LORETO Y TRASLADO A SU PASO DE NTRO. P. JESÚS DE LAS TRES CAÍDAS
DESCRIPTION:
URL:https://trescaidas.org/agenda/misa-ante-ntra-sra-de-loreto-y-traslado-a-su-paso-de-ntro-p-jesus-de-las-tres-caidas/
CATEGORIES:Agenda
END:VEVENT
BEGIN:VEVENT
DTSTART;TZID=Europe/Madrid:20190408T223000
DTEND;TZID=Europe/Madrid:20190409T000000
DTSTAMP:20260420T153328
CREATED:20190323T180913Z
LAST-MODIFIED:20190404T164422Z
UID:16566-1554762600-1554768000@trescaidas.org
SUMMARY:Reunión formativa nuevos nazarenos
DESCRIPTION:
URL:https://trescaidas.org/agenda/reunion-formativa-nuevos-nazarenos/
CATEGORIES:Agenda
END:VEVENT
BEGIN:VEVENT
DTSTART;TZID=Europe/Madrid:20190406T020000
DTEND;TZID=Europe/Madrid:20190406T150000
DTSTAMP:20260420T153328
CREATED:20190313T124549Z
LAST-MODIFIED:20190313T124549Z
UID:16547-1554516000-1554562800@trescaidas.org
SUMMARY:Acto de acogida y recibimiento de nuevos hermanos menores de diez años
DESCRIPTION:
URL:https://trescaidas.org/agenda/acto-de-acogida-y-recibimiento-de-nuevos-hermanos-menores-de-diez-anos/
CATEGORIES:Agenda
END:VEVENT
BEGIN:VEVENT
DTSTART;TZID=Europe/Madrid:20190405T220000
DTEND;TZID=Europe/Madrid:20190405T230000
DTSTAMP:20260420T153328
CREATED:20181209T174006Z
LAST-MODIFIED:20181209T174006Z
UID:16353-1554501600-1554505200@trescaidas.org
SUMMARY:MEDITACIÓN ANTE NUESTRO PADRE JESÚS DE LAS TRES CAÍDAS
DESCRIPTION:
URL:https://trescaidas.org/agenda/meditacion-ante-nuestro-padre-jesus-de-las-tres-caidas/
CATEGORIES:Agenda
END:VEVENT
BEGIN:VEVENT
DTSTART;TZID=Europe/Madrid:20190405T130000
DTEND;TZID=Europe/Madrid:20190407T230000
DTSTAMP:20260420T153328
CREATED:20181209T173909Z
LAST-MODIFIED:20181209T173909Z
UID:16352-1554469200-1554678000@trescaidas.org
SUMMARY:BESAMANOS A NUESTRO PADRE JESÚS DE LAS TRES CAÍDAS
DESCRIPTION:
URL:https://trescaidas.org/agenda/besamanos-a-nuestro-padre-jesus-de-las-tres-caidas/
CATEGORIES:Agenda
END:VEVENT
BEGIN:VEVENT
DTSTART;TZID=Europe/Madrid:20190402T220000
DTEND;TZID=Europe/Madrid:20190403T000000
DTSTAMP:20260420T153328
CREATED:20190214T150101Z
LAST-MODIFIED:20190214T150101Z
UID:16438-1554242400-1554249600@trescaidas.org
SUMMARY:Reparto de Papeletas de Sitio
DESCRIPTION:
URL:https://trescaidas.org/agenda/reparto-de-papeletas-de-sitio-13/
CATEGORIES:Agenda
END:VEVENT
BEGIN:VEVENT
DTSTART;TZID=Europe/Madrid:20190401T220000
DTEND;TZID=Europe/Madrid:20190402T000000
DTSTAMP:20260420T153328
CREATED:20190214T150024Z
LAST-MODIFIED:20190214T150024Z
UID:16437-1554156000-1554163200@trescaidas.org
SUMMARY:Reparto de Papeletas de Sitio
DESCRIPTION:
URL:https://trescaidas.org/agenda/reparto-de-papeletas-de-sitio-12/
CATEGORIES:Agenda
END:VEVENT
BEGIN:VEVENT
DTSTART;TZID=Europe/Madrid:20190330T123000
DTEND;TZID=Europe/Madrid:20190330T143000
DTSTAMP:20260420T153328
CREATED:20190214T145944Z
LAST-MODIFIED:20190214T145944Z
UID:16436-1553949000-1553956200@trescaidas.org
SUMMARY:Reparto de Papeletas de Sitio
DESCRIPTION:
URL:https://trescaidas.org/agenda/reparto-de-papeletas-de-sitio-11/
CATEGORIES:Agenda
END:VEVENT
BEGIN:VEVENT
DTSTART;TZID=Europe/Madrid:20190330T120000
DTEND;TZID=Europe/Madrid:20190330T190000
DTSTAMP:20260420T153328
CREATED:20190302T195723Z
LAST-MODIFIED:20190302T195723Z
UID:16482-1553947200-1553972400@trescaidas.org
SUMMARY:Jornada de Priostía Infantil
DESCRIPTION:
URL:https://trescaidas.org/agenda/jornada-de-priostia-infantil-2/
CATEGORIES:Agenda
END:VEVENT
BEGIN:VEVENT
DTSTART;TZID=Europe/Madrid:20190328T210000
DTEND;TZID=Europe/Madrid:20190328T230000
DTSTAMP:20260420T153328
CREATED:20190214T145700Z
LAST-MODIFIED:20190214T145738Z
UID:16434-1553806800-1553814000@trescaidas.org
SUMMARY:Reparto de Papeletas de Sitio
DESCRIPTION:
URL:https://trescaidas.org/agenda/reparto-de-papeletas-de-sitio-9/
CATEGORIES:Agenda
END:VEVENT
BEGIN:VEVENT
DTSTART;TZID=Europe/Madrid:20190327T210000
DTEND;TZID=Europe/Madrid:20190327T230000
DTSTAMP:20260420T153328
CREATED:20190214T145831Z
LAST-MODIFIED:20190214T145831Z
UID:16435-1553720400-1553727600@trescaidas.org
SUMMARY:Reparto de Papeletas de Sitio
DESCRIPTION:
URL:https://trescaidas.org/agenda/reparto-de-papeletas-de-sitio-10/
CATEGORIES:Agenda
END:VEVENT
BEGIN:VEVENT
DTSTART;TZID=Europe/Madrid:20190325T110000
DTEND;TZID=Europe/Madrid:20190325T230000
DTSTAMP:20260420T153328
CREATED:20190323T180714Z
LAST-MODIFIED:20190323T180714Z
UID:16565-1553511600-1553554800@trescaidas.org
SUMMARY:Publicación de la lista definitiva de asignaciones de sitio para la cofradía
DESCRIPTION:
URL:https://trescaidas.org/agenda/publicacion-de-la-lista-definitiva-de-asignaciones-de-sitio-para-la-cofradia/
CATEGORIES:Agenda
END:VEVENT
BEGIN:VEVENT
DTSTART;TZID=Europe/Madrid:20190322T194500
DTEND;TZID=Europe/Madrid:20190322T220000
DTSTAMP:20260420T153328
CREATED:20190302T195621Z
LAST-MODIFIED:20190302T195621Z
UID:16481-1553283900-1553292000@trescaidas.org
SUMMARY:Jura de nuevos hermanos mayores de diez años
DESCRIPTION:
URL:https://trescaidas.org/agenda/jura-de-nuevos-hermanos-mayores-de-diez-anos/
CATEGORIES:Agenda
END:VEVENT
BEGIN:VEVENT
DTSTART;TZID=Europe/Madrid:20190320T203000
DTEND;TZID=Europe/Madrid:20190322T223000
DTSTAMP:20260420T153328
CREATED:20190320T101443Z
LAST-MODIFIED:20190320T101443Z
UID:16558-1553113800-1553293800@trescaidas.org
SUMMARY:Exposición de listas provisionales de sitio para la cofradía
DESCRIPTION:
URL:https://trescaidas.org/agenda/exposicion-de-listas-provisionales-de-sitio-para-la-cofradia/
CATEGORIES:Agenda
END:VEVENT
BEGIN:VEVENT
DTSTART;TZID=Europe/Madrid:20190315T200000
DTEND;TZID=Europe/Madrid:20190315T210000
DTSTAMP:20260420T153328
CREATED:20190302T195505Z
LAST-MODIFIED:20190302T195505Z
UID:16480-1552680000-1552683600@trescaidas.org
SUMMARY:SEGUNDA CHARLA FORMATIVA
DESCRIPTION:
URL:https://trescaidas.org/agenda/segunda-charla-formativa/
CATEGORIES:Agenda
END:VEVENT
BEGIN:VEVENT
DTSTART;TZID=Europe/Madrid:20190314T220000
DTEND;TZID=Europe/Madrid:20190314T230000
DTSTAMP:20260420T153328
CREATED:20190302T195401Z
LAST-MODIFIED:20190302T195401Z
UID:16479-1552600800-1552604400@trescaidas.org
SUMMARY:CABILDO DE SALIDA
DESCRIPTION:
URL:https://trescaidas.org/agenda/cabildo-de-salida-2/
CATEGORIES:Agenda
END:VEVENT
BEGIN:VEVENT
DTSTART;TZID=Europe/Madrid:20190309T223000
DTEND;TZID=Europe/Madrid:20190310T000000
DTSTAMP:20260420T153328
CREATED:20190302T203557Z
LAST-MODIFIED:20190306T110657Z
UID:16490-1552170600-1552176000@trescaidas.org
SUMMARY:Concierto de marchas Procesionales
DESCRIPTION:En la Parroquia de San Isidoro\, Concierto de Marchas de Semana Santa por la Banda de Música de la Cruz Roja de Sevilla\, con presentación de su nuevo disco “Memoria eterna”\, editado en conmemoración del cincuenta aniversario del fallecimiento de D. Germán Álvarez Beigbeder.
URL:https://trescaidas.org/agenda/concierto-de-marchas-procesionales-2/
CATEGORIES:Agenda
ATTACH;FMTTYPE=image/jpeg:https://trescaidas.org/wp-content/uploads/2019/03/cruz-roja.jpg
END:VEVENT
BEGIN:VEVENT
DTSTART;TZID=Europe/Madrid:20190308T200000
DTEND;TZID=Europe/Madrid:20190308T210000
DTSTAMP:20260420T153328
CREATED:20181209T173728Z
LAST-MODIFIED:20190302T195851Z
UID:16351-1552075200-1552078800@trescaidas.org
SUMMARY:RETIRO DE CUARESMA
DESCRIPTION:
URL:https://trescaidas.org/agenda/retiro-de-cuaresma-2/
CATEGORIES:Agenda
END:VEVENT
BEGIN:VEVENT
DTSTART;TZID=Europe/Madrid:20190306T210000
DTEND;TZID=Europe/Madrid:20190306T220000
DTSTAMP:20260420T153328
CREATED:20181209T173553Z
LAST-MODIFIED:20181209T173553Z
UID:16350-1551906000-1551909600@trescaidas.org
SUMMARY:MIÉRCOLES DE CENIZA
DESCRIPTION:
URL:https://trescaidas.org/agenda/miercoles-de-ceniza/
CATEGORIES:Agenda
END:VEVENT
BEGIN:VEVENT
DTSTART;TZID=Europe/Madrid:20190305T200000
DTEND;TZID=Europe/Madrid:20190305T210000
DTSTAMP:20260420T153328
CREATED:20181209T173455Z
LAST-MODIFIED:20181209T173455Z
UID:16349-1551816000-1551819600@trescaidas.org
SUMMARY:TURNO DE ADORACIÓN LUZ Y VELA. PARROQUIA DE SANTA CRUZ
DESCRIPTION:
URL:https://trescaidas.org/agenda/turno-de-adoracion-luz-y-vela-parroquia-de-santa-cruz/
CATEGORIES:Agenda
END:VEVENT
BEGIN:VEVENT
DTSTART;TZID=Europe/Madrid:20190218T220000
DTEND;TZID=Europe/Madrid:20190218T230000
DTSTAMP:20260420T153328
CREATED:20181123T090651Z
LAST-MODIFIED:20181123T090651Z
UID:16324-1550527200-1550530800@trescaidas.org
SUMMARY:TERCERA SESIÓN DEL VI FORO DE FORMACIÓN LUMEN FIDEI
DESCRIPTION:El 18 de febrero\, a las 21 horas\, en la Parroquia del Sagrario\, organizado por la Hermandad Sacramental del Sagrario de la S.I. Catedral \nLa Muerte. Ponencia a cargo de D. Manuel Cotrino Bautista\, Canónigo y Párroco de la del Sagrario de la S.I. Catedral
URL:https://trescaidas.org/agenda/tercera-sesion-del-vi-foro-de-formacion-lumen-fidei/
CATEGORIES:Agenda
END:VEVENT
BEGIN:VEVENT
DTSTART;TZID=Europe/Madrid:20190215T020000
DTEND;TZID=Europe/Madrid:20190315T130000
DTSTAMP:20260420T153328
CREATED:20190214T145542Z
LAST-MODIFIED:20190214T145542Z
UID:16433-1550196000-1552654800@trescaidas.org
SUMMARY:Solicitud de Papeletas de Sitio
DESCRIPTION:
URL:https://trescaidas.org/agenda/solicitud-de-papeletas-de-sitio/
CATEGORIES:Agenda
END:VEVENT
BEGIN:VEVENT
DTSTART;TZID=Europe/Madrid:20190211T210000
DTEND;TZID=Europe/Madrid:20190211T220000
DTSTAMP:20260420T153328
CREATED:20181209T173110Z
LAST-MODIFIED:20181209T173110Z
UID:16347-1549918800-1549922400@trescaidas.org
SUMMARY:MISA EN SUFRAGIO DE LAS ALMAS DE NUESTROS HERMANOS DIFUNTOS
DESCRIPTION:
URL:https://trescaidas.org/agenda/misa-en-sufragio-de-las-almas-de-nuestros-hermanos-difuntos/
CATEGORIES:Agenda
END:VEVENT
BEGIN:VEVENT
DTSTART;TZID=Europe/Madrid:20190210T140000
DTEND;TZID=Europe/Madrid:20190210T150000
DTSTAMP:20260420T153328
CREATED:20181209T172958Z
LAST-MODIFIED:20181209T172958Z
UID:16346-1549807200-1549810800@trescaidas.org
SUMMARY:FUNCIÓN PRINCIPAL DE INSTITUTO
DESCRIPTION:
URL:https://trescaidas.org/agenda/funcion-principal-de-instituto-2/
CATEGORIES:Agenda
END:VEVENT
END:VCALENDAR