BEGIN:VCALENDAR
VERSION:2.0
PRODID:-//Antigua e Ilustre Hermandad del Santísimo Sacramento, María Stma. de las Nieves y Ánimas Benditas del Purgatorio y Pontificia y Real Archicofradía de Nazarenos de Nuestro Padre Jesús de las Tres Caídas, Nuestra Señora de Loreto y Señor San Isidoro - ECPv6.15.20//NONSGML v1.0//EN
CALSCALE:GREGORIAN
METHOD:PUBLISH
X-WR-CALNAME:Antigua e Ilustre Hermandad del Santísimo Sacramento, María Stma. de las Nieves y Ánimas Benditas del Purgatorio y Pontificia y Real Archicofradía de Nazarenos de Nuestro Padre Jesús de las Tres Caídas, Nuestra Señora de Loreto y Señor San Isidoro
X-ORIGINAL-URL:https://trescaidas.org
X-WR-CALDESC:Eventos para Antigua e Ilustre Hermandad del Santísimo Sacramento, María Stma. de las Nieves y Ánimas Benditas del Purgatorio y Pontificia y Real Archicofradía de Nazarenos de Nuestro Padre Jesús de las Tres Caídas, Nuestra Señora de Loreto y Señor San Isidoro
REFRESH-INTERVAL;VALUE=DURATION:PT1H
X-Robots-Tag:noindex
X-PUBLISHED-TTL:PT1H
BEGIN:VTIMEZONE
TZID:Europe/Madrid
BEGIN:DAYLIGHT
TZOFFSETFROM:+0100
TZOFFSETTO:+0200
TZNAME:CEST
DTSTART:20150329T010000
END:DAYLIGHT
BEGIN:STANDARD
TZOFFSETFROM:+0200
TZOFFSETTO:+0100
TZNAME:CET
DTSTART:20151025T010000
END:STANDARD
BEGIN:DAYLIGHT
TZOFFSETFROM:+0100
TZOFFSETTO:+0200
TZNAME:CEST
DTSTART:20160327T010000
END:DAYLIGHT
BEGIN:STANDARD
TZOFFSETFROM:+0200
TZOFFSETTO:+0100
TZNAME:CET
DTSTART:20161030T010000
END:STANDARD
BEGIN:DAYLIGHT
TZOFFSETFROM:+0100
TZOFFSETTO:+0200
TZNAME:CEST
DTSTART:20170326T010000
END:DAYLIGHT
BEGIN:STANDARD
TZOFFSETFROM:+0200
TZOFFSETTO:+0100
TZNAME:CET
DTSTART:20171029T010000
END:STANDARD
END:VTIMEZONE
BEGIN:VEVENT
DTSTART;TZID=Europe/Madrid:20161218T120000
DTEND;TZID=Europe/Madrid:20161218T220000
DTSTAMP:20260421T154019
CREATED:20161130T215903Z
LAST-MODIFIED:20161130T215903Z
UID:15663-1482062400-1482098400@trescaidas.org
SUMMARY:Besamanos de Ntra. Sra. de Loreto
DESCRIPTION:De 11 h. a 13:30 h y de 17:30 h. a 21:00 h.
URL:https://trescaidas.org/agenda/besamanos-de-ntra-sra-de-loreto-3/
CATEGORIES:Agenda
END:VEVENT
BEGIN:VEVENT
DTSTART;TZID=Europe/Madrid:20161217T120000
DTEND;TZID=Europe/Madrid:20161217T220000
DTSTAMP:20260421T154019
CREATED:20161130T215729Z
LAST-MODIFIED:20161130T215729Z
UID:15662-1481976000-1482012000@trescaidas.org
SUMMARY:Besamanos de Ntra. Sra. de Loreto
DESCRIPTION:De 11 h. a 13:30 h y de 17:30 h. a 21:00 h.
URL:https://trescaidas.org/agenda/besamanos-de-ntra-sra-de-loreto-2/
CATEGORIES:Agenda
END:VEVENT
BEGIN:VEVENT
DTSTART;TZID=Europe/Madrid:20161217T110000
DTEND;TZID=Europe/Madrid:20161217T150000
DTSTAMP:20260421T154019
CREATED:20161213T222135Z
LAST-MODIFIED:20161213T222135Z
UID:15698-1481972400-1481986800@trescaidas.org
SUMMARY:Campaña de Navidad
DESCRIPTION:Recogida de alimentos en los supermercados de la feligresía
URL:https://trescaidas.org/agenda/campana-de-navidad/
LOCATION:Supermercados
CATEGORIES:Agenda
END:VEVENT
BEGIN:VEVENT
DTSTART;TZID=Europe/Madrid:20161216T213000
DTEND;TZID=Europe/Madrid:20161216T220000
DTSTAMP:20260421T154019
CREATED:20161130T215437Z
LAST-MODIFIED:20161130T215437Z
UID:15661-1481923800-1481925600@trescaidas.org
SUMMARY:Besamanos de Ntra. Sra. de Loreto
DESCRIPTION:
URL:https://trescaidas.org/agenda/besamanos-de-ntra-sra-de-loreto/
LOCATION:Parroquia de San Isidoro\, C/ Luchana\, Sevilla\, 41004
CATEGORIES:Agenda
END:VEVENT
BEGIN:VEVENT
DTSTART;TZID=Europe/Madrid:20161215T180000
DTEND;TZID=Europe/Madrid:20161215T213000
DTSTAMP:20260421T154019
CREATED:20161213T221835Z
LAST-MODIFIED:20161213T221835Z
UID:15696-1481824800-1481837400@trescaidas.org
SUMMARY:Cuestación Andex
DESCRIPTION:El jueves 15 de diciembre estaremos en la plaza de la Alfalfa de 17.00 a 20.30 h. colaborando con Andex\, Asociación de Padres de Niños con Cáncer de Andalucía\, en su cuestación anual
URL:https://trescaidas.org/agenda/cuestacion-andex/
LOCATION:Plaza de la Alfalfa
CATEGORIES:Agenda
END:VEVENT
BEGIN:VEVENT
DTSTART;TZID=Europe/Madrid:20161210T210000
DTEND;TZID=Europe/Madrid:20161210T220000
DTSTAMP:20260421T154019
CREATED:20161130T215318Z
LAST-MODIFIED:20161130T215318Z
UID:15660-1481403600-1481407200@trescaidas.org
SUMMARY:Misa Solemne en honor de Ntra. Sra. de Loreto
DESCRIPTION:
URL:https://trescaidas.org/agenda/misa-solemne-en-honor-de-ntra-sra-de-loreto/
LOCATION:Parroquia de San Isidoro\, C/ Luchana\, Sevilla\, 41004
CATEGORIES:Agenda
END:VEVENT
BEGIN:VEVENT
DTSTART;TZID=Europe/Madrid:20161209T210000
DTEND;TZID=Europe/Madrid:20161209T220000
DTSTAMP:20260421T154019
CREATED:20161206T123603Z
LAST-MODIFIED:20161206T123603Z
UID:15671-1481317200-1481320800@trescaidas.org
SUMMARY:Entrega de diplomas de 75 y 50 años de hermano
DESCRIPTION:
URL:https://trescaidas.org/agenda/entrega-de-diplomas-de-75-y-50-anos-de-hermano/
LOCATION:Parroquia de San Isidoro\, C/ Luchana\, Sevilla\, 41004
CATEGORIES:Agenda
END:VEVENT
BEGIN:VEVENT
DTSTART;TZID=Europe/Madrid:20161209T210000
DTEND;TZID=Europe/Madrid:20161209T220000
DTSTAMP:20260421T154019
CREATED:20161130T215152Z
LAST-MODIFIED:20161130T215152Z
UID:15659-1481317200-1481320800@trescaidas.org
SUMMARY:Tercer día de Triduo a Ntra. Sra. de Loreto
DESCRIPTION:
URL:https://trescaidas.org/agenda/tercer-dia-de-triduo-a-ntra-sra-de-loreto/
LOCATION:Parroquia de San Isidoro\, C/ Luchana\, Sevilla\, 41004
CATEGORIES:Agenda
END:VEVENT
BEGIN:VEVENT
DTSTART;TZID=Europe/Madrid:20161208T210000
DTEND;TZID=Europe/Madrid:20161208T220000
DTSTAMP:20260421T154019
CREATED:20161206T123412Z
LAST-MODIFIED:20161206T123412Z
UID:15670-1481230800-1481234400@trescaidas.org
SUMMARY:Jura de hermanos nuevos
DESCRIPTION:
URL:https://trescaidas.org/agenda/jura-de-hermanos-nuevos/
LOCATION:Parroquia de San Isidoro\, C/ Luchana\, Sevilla\, 41004
CATEGORIES:Agenda
END:VEVENT
BEGIN:VEVENT
DTSTART;TZID=Europe/Madrid:20161208T210000
DTEND;TZID=Europe/Madrid:20161208T220000
DTSTAMP:20260421T154019
CREATED:20161130T215058Z
LAST-MODIFIED:20161130T215058Z
UID:15658-1481230800-1481234400@trescaidas.org
SUMMARY:Segundo día de Triduo a Ntra. Sra. de Loreto
DESCRIPTION:
URL:https://trescaidas.org/agenda/segundo-dia-de-triduo-a-ntra-sra-de-loreto/
LOCATION:Parroquia de San Isidoro\, C/ Luchana\, Sevilla\, 41004
CATEGORIES:Agenda
END:VEVENT
BEGIN:VEVENT
DTSTART;TZID=Europe/Madrid:20161207T210000
DTEND;TZID=Europe/Madrid:20161207T220000
DTSTAMP:20260421T154019
CREATED:20161130T214944Z
LAST-MODIFIED:20161206T123241Z
UID:15657-1481144400-1481148000@trescaidas.org
SUMMARY:Primer día de Triduo a Ntra. Sra. de Loreto
DESCRIPTION:Primer día de Triduo a Ntra. Sra. de Loreto con participación especial de los jóvenes y niños de la hermandad que harán una ofrenda floral a la Virgen.
URL:https://trescaidas.org/agenda/primer-dia-de-triduo-a-ntra-sra-de-loreto/
LOCATION:Parroquia de San Isidoro\, C/ Luchana\, Sevilla\, 41004
CATEGORIES:Agenda
END:VEVENT
BEGIN:VEVENT
DTSTART;TZID=Europe/Madrid:20161205T210000
DTEND;TZID=Europe/Madrid:20161205T220000
DTSTAMP:20260421T154019
CREATED:20161130T214832Z
LAST-MODIFIED:20161130T221327Z
UID:15656-1480971600-1480975200@trescaidas.org
SUMMARY:Toma de posesión de la nueva Junta de Gobierno
DESCRIPTION:En la misa de la parroquia de 20.00 h. jurarán sus cargos los nuevos miembros de la Junta de Gobierno.
URL:https://trescaidas.org/agenda/toma-de-posesion-de-la-nueva-junta-de-gobierno/
LOCATION:Parroquia de San Isidoro\, C/ Luchana\, Sevilla\, 41004
CATEGORIES:Agenda
END:VEVENT
BEGIN:VEVENT
DTSTART;TZID=Europe/Madrid:20161203T010000
DTEND;TZID=Europe/Madrid:20161203T140000
DTSTAMP:20260421T154019
CREATED:20161130T212819Z
LAST-MODIFIED:20161130T212819Z
UID:15651-1480726800-1480773600@trescaidas.org
SUMMARY:Retiro de adviento
DESCRIPTION:
URL:https://trescaidas.org/agenda/retiro-de-adviento/
LOCATION:Parroquia de San Isidoro\, C/ Luchana\, Sevilla\, 41004
CATEGORIES:Agenda
END:VEVENT
BEGIN:VEVENT
DTSTART;TZID=Europe/Madrid:20161201T210000
DTEND;TZID=Europe/Madrid:20161201T230000
DTSTAMP:20260421T154019
CREATED:20161130T213045Z
LAST-MODIFIED:20161130T213045Z
UID:15652-1480626000-1480633200@trescaidas.org
SUMMARY:Convivencia de Hermandades Sacramentales
DESCRIPTION:
URL:https://trescaidas.org/agenda/convivencia-de-hermandades-sacramentales/
LOCATION:Parroquia de San Bartolomé
CATEGORIES:Agenda
END:VEVENT
BEGIN:VEVENT
DTSTART;TZID=Europe/Madrid:20161125T100000
DTEND;TZID=Europe/Madrid:20161126T230000
DTSTAMP:20260421T154019
CREATED:20161101T170233Z
LAST-MODIFIED:20161101T170233Z
UID:15577-1480068000-1480201200@trescaidas.org
SUMMARY:Gran Recogida de Alimentos del Banco de Alimentos
DESCRIPTION:
URL:https://trescaidas.org/agenda/gran-recogida-de-alimentos-del-banco-de-alimentos/
LOCATION:Supermercado MAS\, Plaza Jerónimo Hernández\, Sevilla
CATEGORIES:Agenda
END:VEVENT
BEGIN:VEVENT
DTSTART;TZID=Europe/Madrid:20161118T200000
DTEND;TZID=Europe/Madrid:20161118T230000
DTSTAMP:20260421T154019
CREATED:20160915T172247Z
LAST-MODIFIED:20161101T165435Z
UID:15545-1479499200-1479510000@trescaidas.org
SUMMARY:Cabildo de elecciones
DESCRIPTION:
URL:https://trescaidas.org/agenda/cabildo-de-elecciones/
LOCATION:Casa de Hermandad\, Augusto Plasencia 3\, Sevilla\, 41004\, España
CATEGORIES:Agenda
END:VEVENT
BEGIN:VEVENT
DTSTART;TZID=Europe/Madrid:20161118T183000
DTEND;TZID=Europe/Madrid:20161118T200000
DTSTAMP:20260421T154019
CREATED:20161101T165330Z
LAST-MODIFIED:20161101T165330Z
UID:15573-1479493800-1479499200@trescaidas.org
SUMMARY:Cabildo de Cuentas\, Presupuesto y Memoria de actividades
DESCRIPTION:
URL:https://trescaidas.org/agenda/cabildo-de-cuentas-presupuesto-y-memoria-de-actividades/
LOCATION:Casa de Hermandad\, Augusto Plasencia 3\, Sevilla\, 41004\, España
CATEGORIES:Agenda
END:VEVENT
BEGIN:VEVENT
DTSTART;TZID=Europe/Madrid:20161112T090000
DTEND;TZID=Europe/Madrid:20161113T180000
DTSTAMP:20260421T154019
CREATED:20161101T165907Z
LAST-MODIFIED:20161101T165907Z
UID:15575-1478941200-1479060000@trescaidas.org
SUMMARY:Peregrinación al Rocío
DESCRIPTION:
URL:https://trescaidas.org/agenda/peregrinacion-al-rocio/
LOCATION:Aldea del Rocío
CATEGORIES:Agenda
END:VEVENT
BEGIN:VEVENT
DTSTART;TZID=Europe/Madrid:20161104T090000
DTEND;TZID=Europe/Madrid:20161104T220000
DTSTAMP:20260421T154019
CREATED:20161101T165722Z
LAST-MODIFIED:20161101T165722Z
UID:15574-1478250000-1478296800@trescaidas.org
SUMMARY:Misa en sufragio de las Benditas Almas del Purgatorio
DESCRIPTION:
URL:https://trescaidas.org/agenda/misa-en-sufragio-de-las-benditas-almas-del-purgatorio/
LOCATION:Parroquia de San Isidoro\, C/ Luchana\, Sevilla\, 41004
CATEGORIES:Agenda
END:VEVENT
BEGIN:VEVENT
DTSTART;TZID=Europe/Madrid:20161103T200000
DTEND;TZID=Europe/Madrid:20161117T230000
DTSTAMP:20260421T154019
CREATED:20161101T165129Z
LAST-MODIFIED:20161101T165546Z
UID:15572-1478203200-1479423600@trescaidas.org
SUMMARY:Exposición de cuentas y presupuesto
DESCRIPTION:
URL:https://trescaidas.org/agenda/exposicion-de-cuentas-y-presupuesto/
LOCATION:Casa de Hermandad\, Augusto Plasencia 3\, Sevilla\, 41004\, España
CATEGORIES:Agenda
END:VEVENT
BEGIN:VEVENT
DTSTART;TZID=Europe/Madrid:20161020T220000
DTEND;TZID=Europe/Madrid:20161103T220000
DTSTAMP:20260421T154019
CREATED:20160915T172148Z
LAST-MODIFIED:20160915T172148Z
UID:15544-1477000800-1478210400@trescaidas.org
SUMMARY:Formación y presentación de candidaturas a junta de gobierno
DESCRIPTION:
URL:https://trescaidas.org/agenda/formacion-y-presentacion-de-candidaturas-a-junta-de-gobierno/
LOCATION:Casa de Hermandad\, Augusto Plasencia 3\, Sevilla\, 41004\, España
CATEGORIES:Agenda
END:VEVENT
BEGIN:VEVENT
DTSTART;TZID=Europe/Madrid:20160930T220000
DTEND;TZID=Europe/Madrid:20160930T223000
DTSTAMP:20260421T154019
CREATED:20160922T162704Z
LAST-MODIFIED:20160922T162704Z
UID:15559-1475272800-1475274600@trescaidas.org
SUMMARY:Misa por el eterno descanso de Antonio Feria Toribio
DESCRIPTION:
URL:https://trescaidas.org/agenda/misa-por-el-eterno-descanso-de-antonio-feria-toribio/
CATEGORIES:Agenda
END:VEVENT
BEGIN:VEVENT
DTSTART;TZID=Europe/Madrid:20160923T220000
DTEND;TZID=Europe/Madrid:20160923T223000
DTSTAMP:20260421T154019
CREATED:20160922T162205Z
LAST-MODIFIED:20160922T162205Z
UID:15554-1474668000-1474669800@trescaidas.org
SUMMARY:Misa por el eterno descanso de Salud Martínez Rodríguez
DESCRIPTION:
URL:https://trescaidas.org/agenda/misa-por-el-eterno-descanso-de-salud-martinez-rodriguez/
LOCATION:Parroquia de San Isidoro\, C/ Luchana\, Sevilla\, 41004
CATEGORIES:Agenda
END:VEVENT
BEGIN:VEVENT
DTSTART;TZID=Europe/Madrid:20160919T220000
DTEND;TZID=Europe/Madrid:20161019T230000
DTSTAMP:20260421T154019
CREATED:20160915T171924Z
LAST-MODIFIED:20160915T171924Z
UID:15543-1474322400-1476918000@trescaidas.org
SUMMARY:Presentación de candidatos para las elecciones a junta de gobierno
DESCRIPTION:
URL:https://trescaidas.org/agenda/presentacion-de-candidatos-para-las-elecciones-a-junta-de-gobierno/
LOCATION:Casa de Hermandad\, Augusto Plasencia 3\, Sevilla\, 41004\, España
CATEGORIES:Agenda
END:VEVENT
BEGIN:VEVENT
DTSTART;TZID=Europe/Madrid:20160919T220000
DTEND;TZID=Europe/Madrid:20161008T230000
DTSTAMP:20260421T154019
CREATED:20160915T171701Z
LAST-MODIFIED:20160915T172009Z
UID:15541-1474322400-1475967600@trescaidas.org
SUMMARY:Exposición censo para elecciones a junta de gobierno
DESCRIPTION:
URL:https://trescaidas.org/agenda/exposicion-censo-para-elecciones/
LOCATION:Casa de Hermandad\, Augusto Plasencia 3\, Sevilla\, 41004\, España
CATEGORIES:Agenda
END:VEVENT
BEGIN:VEVENT
DTSTART;TZID=Europe/Madrid:20160916T220000
DTEND;TZID=Europe/Madrid:20160916T230000
DTSTAMP:20260421T154019
CREATED:20160511T062503Z
LAST-MODIFIED:20160915T171225Z
UID:15110-1474063200-1474066800@trescaidas.org
SUMMARY:Misa Solemne en Honor de la Santísima Virgen de las Nieves
DESCRIPTION:
URL:https://trescaidas.org/agenda/misa-solemne-en-honor-de-la-santisima-virgen-de-las-nieves/
LOCATION:Parroquia San Isidoro\, C/ Luchana\, Sevilla\, 41004
CATEGORIES:Agenda
END:VEVENT
BEGIN:VEVENT
DTSTART;TZID=Europe/Madrid:20160624T220000
DTEND;TZID=Europe/Madrid:20160624T230000
DTSTAMP:20260421T154019
CREATED:20160511T062222Z
LAST-MODIFIED:20160511T062222Z
UID:15108-1466805600-1466809200@trescaidas.org
SUMMARY:Misa por el proceso de Beatificación de nuestro hermano D. Antonio Amundarain Garmendia
DESCRIPTION:
URL:https://trescaidas.org/agenda/misa-por-el-proceso-de-beatificacion-de-nuestro-hermano-d-antonio-amundarain-garmendia/
LOCATION:Parroquia de San Isidoro\, C/ Luchana\, Sevilla\, 41004
CATEGORIES:Agenda
END:VEVENT
BEGIN:VEVENT
DTSTART;VALUE=DATE:20160606
DTEND;VALUE=DATE:20160610
DTSTAMP:20260421T154019
CREATED:20160511T061936Z
LAST-MODIFIED:20160511T061936Z
UID:15106-1465178400-1465437599@trescaidas.org
SUMMARY:Jubileo Circular de las 40 horas
DESCRIPTION:
URL:https://trescaidas.org/agenda/jubileo-circular-de-las-40-horas/
LOCATION:Parroquia de San Isidoro\, C/ Luchana\, Sevilla \, 41004
CATEGORIES:Agenda
END:VEVENT
BEGIN:VEVENT
DTSTART;VALUE=DATE:20160605
DTEND;VALUE=DATE:20160607
DTSTAMP:20260421T154019
CREATED:20160516T185156Z
LAST-MODIFIED:20160516T185156Z
UID:15135-1465092000-1465178399@trescaidas.org
SUMMARY:Peregrinación al Santuario de Ntra. Sra. de Loreto (Espartinas)
DESCRIPTION:El domingo 5 de junio nuestra hermandad de San Isidoro realizará una peregrinación al Santuario de Ntra. Sra. de Loreto en Espartinas con motivo del Año Jubilar de la Misericordia. La peregrinación partirá desde Gines. Celebraremos la Eucaristía a la 13.00 h. en el Santuario. Previamente tendremos una visita guiada al Monasterio y después un almuerzo de hermandad. Todos los que deseen participar deben comunicarlo lo antes posible para poder organizar transportes y almuerzo.
URL:https://trescaidas.org/agenda/peregrinacion-al-santuario-de-ntra-sra-de-loreto-espartinas/
LOCATION:Monasterio de Loreto (Espartinas)\, Espartinas\, España
CATEGORIES:Agenda
END:VEVENT
BEGIN:VEVENT
DTSTART;TZID=Europe/Madrid:20160529T120000
DTEND;TZID=Europe/Madrid:20160529T020000
DTSTAMP:20260421T154019
CREATED:20160511T061605Z
LAST-MODIFIED:20160511T061605Z
UID:15104-1464523200-1464487200@trescaidas.org
SUMMARY:Solemne Función Principal de Instituto y posterior Solemne Procesión Eucarística
DESCRIPTION:El día 29 de mayo celebramos la Solemne Función Principal de Instituto y\, posteriormente\, Solemne Procesión Eucarística con S. D. M. por las calles de la feligresía.
URL:https://trescaidas.org/agenda/solemne-funcion-principal-de-instituto-y-posterior-solemne-procesion-eucaristica/
LOCATION:Parroquia de San Isidoro\, C/ Luchana\, Sevilla\, 41004
CATEGORIES:Agenda
END:VEVENT
END:VCALENDAR