BEGIN:VCALENDAR
VERSION:2.0
PRODID:-//Antigua e Ilustre Hermandad del Santísimo Sacramento, María Stma. de las Nieves y Ánimas Benditas del Purgatorio y Pontificia y Real Archicofradía de Nazarenos de Nuestro Padre Jesús de las Tres Caídas, Nuestra Señora de Loreto y Señor San Isidoro - ECPv6.15.20//NONSGML v1.0//EN
CALSCALE:GREGORIAN
METHOD:PUBLISH
X-WR-CALNAME:Antigua e Ilustre Hermandad del Santísimo Sacramento, María Stma. de las Nieves y Ánimas Benditas del Purgatorio y Pontificia y Real Archicofradía de Nazarenos de Nuestro Padre Jesús de las Tres Caídas, Nuestra Señora de Loreto y Señor San Isidoro
X-ORIGINAL-URL:https://trescaidas.org
X-WR-CALDESC:Eventos para Antigua e Ilustre Hermandad del Santísimo Sacramento, María Stma. de las Nieves y Ánimas Benditas del Purgatorio y Pontificia y Real Archicofradía de Nazarenos de Nuestro Padre Jesús de las Tres Caídas, Nuestra Señora de Loreto y Señor San Isidoro
REFRESH-INTERVAL;VALUE=DURATION:PT1H
X-Robots-Tag:noindex
X-PUBLISHED-TTL:PT1H
BEGIN:VTIMEZONE
TZID:Europe/Madrid
BEGIN:DAYLIGHT
TZOFFSETFROM:+0100
TZOFFSETTO:+0200
TZNAME:CEST
DTSTART:20150329T010000
END:DAYLIGHT
BEGIN:STANDARD
TZOFFSETFROM:+0200
TZOFFSETTO:+0100
TZNAME:CET
DTSTART:20151025T010000
END:STANDARD
BEGIN:DAYLIGHT
TZOFFSETFROM:+0100
TZOFFSETTO:+0200
TZNAME:CEST
DTSTART:20160327T010000
END:DAYLIGHT
BEGIN:STANDARD
TZOFFSETFROM:+0200
TZOFFSETTO:+0100
TZNAME:CET
DTSTART:20161030T010000
END:STANDARD
BEGIN:DAYLIGHT
TZOFFSETFROM:+0100
TZOFFSETTO:+0200
TZNAME:CEST
DTSTART:20170326T010000
END:DAYLIGHT
BEGIN:STANDARD
TZOFFSETFROM:+0200
TZOFFSETTO:+0100
TZNAME:CET
DTSTART:20171029T010000
END:STANDARD
BEGIN:DAYLIGHT
TZOFFSETFROM:+0100
TZOFFSETTO:+0200
TZNAME:CEST
DTSTART:20180325T010000
END:DAYLIGHT
BEGIN:STANDARD
TZOFFSETFROM:+0200
TZOFFSETTO:+0100
TZNAME:CET
DTSTART:20181028T010000
END:STANDARD
END:VTIMEZONE
BEGIN:VEVENT
DTSTART;TZID=Europe/Madrid:20170324T210000
DTEND;TZID=Europe/Madrid:20170324T220000
DTSTAMP:20260421T111645
CREATED:20170226T171745Z
LAST-MODIFIED:20170226T171745Z
UID:15875-1490389200-1490392800@trescaidas.org
SUMMARY:Jura de hermanos nuevos
DESCRIPTION:
URL:https://trescaidas.org/agenda/jura-de-hermanos-nuevos-2/
CATEGORIES:Agenda
END:VEVENT
BEGIN:VEVENT
DTSTART;TZID=Europe/Madrid:20170324T194500
DTEND;TZID=Europe/Madrid:20170324T210000
DTSTAMP:20260421T111645
CREATED:20170226T171703Z
LAST-MODIFIED:20170226T171703Z
UID:15874-1490384700-1490389200@trescaidas.org
SUMMARY:Formación de hermanos nuevos
DESCRIPTION:
URL:https://trescaidas.org/agenda/formacion-de-hermanos-nuevos/
LOCATION:Casa de Hermandad\, Augusto Plasencia 3\, Sevilla\, 41004\, España
CATEGORIES:Agenda
END:VEVENT
BEGIN:VEVENT
DTSTART;VALUE=DATE:20170324
DTEND;VALUE=DATE:20170326
DTSTAMP:20260421T111645
CREATED:20170224T181944Z
LAST-MODIFIED:20170224T181944Z
UID:15798-1490317200-1490403599@trescaidas.org
SUMMARY:Asignaciones de puestos Cofradía
DESCRIPTION:
URL:https://trescaidas.org/agenda/asignaciones-de-puestos-cofradia/
LOCATION:Casa de Hermandad\, Augusto Plasencia 3\, Sevilla\, 41004\, España
CATEGORIES:Agenda
END:VEVENT
BEGIN:VEVENT
DTSTART;TZID=Europe/Madrid:20170317T214500
DTEND;TZID=Europe/Madrid:20170317T230000
DTSTAMP:20260421T111645
CREATED:20170225T174133Z
LAST-MODIFIED:20170225T174133Z
UID:15858-1489787100-1489791600@trescaidas.org
SUMMARY:Concierto de marchas procesionales
DESCRIPTION:A cargo de la Banda Municipal de Música de Los Palacios y Villafranca “Fernando Guerrero”\, en donde se interpretarán las siguientes Marchas Procesionales: “Virgen del Valle”\, “Ione”\, “María Santísima del Dulce Nombre”\, “Soleá dame la mano”\, “Tres Caídas”\, “Jesús de las Penas”\, “Amarguras”\, “Margot”\, “Ave María” y “Domus Aurea”.
URL:https://trescaidas.org/agenda/concierto-de-marchas-procesionales/
LOCATION:Parroquia de San Isidoro\, C/ Luchana\, Sevilla\, 41004
CATEGORIES:Agenda
END:VEVENT
BEGIN:VEVENT
DTSTART;TZID=Europe/Madrid:20170311T120000
DTEND;TZID=Europe/Madrid:20170311T150000
DTSTAMP:20260421T111645
CREATED:20170225T173903Z
LAST-MODIFIED:20170225T173903Z
UID:15857-1489233600-1489244400@trescaidas.org
SUMMARY:Jornada de Priostía infantil
DESCRIPTION:
URL:https://trescaidas.org/agenda/jornada-de-priostia-infantil/
LOCATION:Casa de Hermandad\, Augusto Plasencia 3\, Sevilla\, 41004\, España
CATEGORIES:Agenda
END:VEVENT
BEGIN:VEVENT
DTSTART;TZID=Europe/Madrid:20170306T090000
DTEND;TZID=Europe/Madrid:20170317T220000
DTSTAMP:20260421T111645
CREATED:20170222T184230Z
LAST-MODIFIED:20170225T171206Z
UID:15768-1488790800-1489788000@trescaidas.org
SUMMARY:Solicitud Papeletas de Sitio
DESCRIPTION:Periodo de Solicitud de Papeletas de Sitio
URL:https://trescaidas.org/agenda/15768/
CATEGORIES:Agenda
END:VEVENT
BEGIN:VEVENT
DTSTART;TZID=Europe/Madrid:20170304T130000
DTEND;TZID=Europe/Madrid:20170304T140000
DTSTAMP:20260421T111645
CREATED:20170130T183908Z
LAST-MODIFIED:20170130T183908Z
UID:15744-1488632400-1488636000@trescaidas.org
SUMMARY:Retiro de Cuaresma
DESCRIPTION:
URL:https://trescaidas.org/agenda/retiro-de-cuaresma/
LOCATION:Parroquia de San Isidoro\, C/ Luchana\, Sevilla\, 41004
CATEGORIES:Agenda
END:VEVENT
BEGIN:VEVENT
DTSTART;TZID=Europe/Madrid:20170303T214500
DTEND;TZID=Europe/Madrid:20170303T230000
DTSTAMP:20260421T111645
CREATED:20170224T154739Z
LAST-MODIFIED:20170224T181000Z
UID:15786-1488577500-1488582000@trescaidas.org
SUMMARY:Conferencia acerca de la Sábana Santa por Don Julio Marvizón
DESCRIPTION:  \nEl día 3 de Marzo tendrá lugar a las 20:45 horas en el Salón Parroquial de San Isidoro la conferencia «La Sábana Santa de Turín\, ¿milagrosa falsificación?» que será impartida por D. Julio Marvizón.
URL:https://trescaidas.org/agenda/conferencia-acerca-de-la-sabana-santa-por-don-julio-marvizon/
LOCATION:Parroquia de San Isidoro\, C/ Luchana\, Sevilla\, 41004
CATEGORIES:Agenda
ATTACH;FMTTYPE=image/jpeg:https://trescaidas.org/wp-content/uploads/2016/07/Descendimiento.jpg
END:VEVENT
BEGIN:VEVENT
DTSTART;TZID=Europe/Madrid:20170302T220000
DTEND;TZID=Europe/Madrid:20170302T233000
DTSTAMP:20260421T111645
CREATED:20170130T183124Z
LAST-MODIFIED:20170130T183144Z
UID:15741-1488492000-1488497400@trescaidas.org
SUMMARY:Cabildo General  Ordinario de Salida
DESCRIPTION:
URL:https://trescaidas.org/agenda/cabildo-de-salida/
LOCATION:Casa de Hermandad\, Augusto Plasencia 3\, Sevilla\, 41004\, España
CATEGORIES:Agenda
END:VEVENT
BEGIN:VEVENT
DTSTART;TZID=Europe/Madrid:20170301T210000
DTEND;TZID=Europe/Madrid:20170301T220000
DTSTAMP:20260421T111645
CREATED:20170222T184950Z
LAST-MODIFIED:20170222T205115Z
UID:15769-1488402000-1488405600@trescaidas.org
SUMMARY:Miércoles de Ceniza
DESCRIPTION:Miércoles de Ceniza\nMisa de Imposición de la Ceniza
URL:https://trescaidas.org/agenda/15769/
LOCATION:Parroquia de San Isidoro\, C/ Luchana\, Sevilla\, 41004
CATEGORIES:Agenda
END:VEVENT
BEGIN:VEVENT
DTSTART;TZID=Europe/Madrid:20170228T200000
DTEND;TZID=Europe/Madrid:20170228T220000
DTSTAMP:20260421T111645
CREATED:20170130T184353Z
LAST-MODIFIED:20170226T182153Z
UID:15745-1488312000-1488319200@trescaidas.org
SUMMARY:Turno de Adoración Luz y Vela
DESCRIPTION:
URL:https://trescaidas.org/agenda/turno-de-adoracion-luz-y-vela/
LOCATION:Parroquia de Santa Cruz\, Calle Mateos Gago 32 B\, Sevilla\, 41004
CATEGORIES:Agenda
END:VEVENT
BEGIN:VEVENT
DTSTART;TZID=Europe/Madrid:20170224T220000
DTEND;TZID=Europe/Madrid:20170224T230000
DTSTAMP:20260421T111645
CREATED:20170224T153944Z
LAST-MODIFIED:20170224T153944Z
UID:15785-1487973600-1487977200@trescaidas.org
SUMMARY:Igualá cuadrilla Nuestra Señora de Loreto
DESCRIPTION:Éste Viernes día 24 de Febrero tendrá lugar la igualá de la cuadrilla del paso de Nuestra Señora de Loreto en el salón parroquial de la Iglesia de San Isidoro a las 21:00 horas.
URL:https://trescaidas.org/agenda/iguala-cuadrilla-nuestra-senora-de-loreto/
LOCATION:Parroquia de San Isidoro\, C/ Luchana\, Sevilla\, 41004
CATEGORIES:Agenda
END:VEVENT
BEGIN:VEVENT
DTSTART;TZID=Europe/Madrid:20170223T220000
DTEND;TZID=Europe/Madrid:20170224T000000
DTSTAMP:20260421T111645
CREATED:20170222T200056Z
LAST-MODIFIED:20170222T214803Z
UID:15776-1487887200-1487894400@trescaidas.org
SUMMARY:Igualá Cuadrilla Ntro Padre Jesús de las Tres Caídas
DESCRIPTION:En el Salón Parroquial.
URL:https://trescaidas.org/agenda/iguala-cuadrilla-ntro-padre-jesus-de-las-tres-caidas/
LOCATION:Parroquia de San Isidoro\, C/ Luchana\, Sevilla \, 41004
CATEGORIES:Agenda
END:VEVENT
BEGIN:VEVENT
DTSTART;TZID=Europe/Madrid:20170220T220000
DTEND;TZID=Europe/Madrid:20170220T230000
DTSTAMP:20260421T111645
CREATED:20170219T211630Z
LAST-MODIFIED:20170219T211630Z
UID:15759-1487628000-1487631600@trescaidas.org
SUMMARY:Tercera sesión del Foro Lumen Fidei
DESCRIPTION:
URL:https://trescaidas.org/agenda/tercera-sesion-del-foro-lumen-fidei/
LOCATION:Parroquia del Sagrario\, Avenida de la Constitución\, Sevilla
CATEGORIES:Agenda
END:VEVENT
BEGIN:VEVENT
DTSTART;TZID=Europe/Madrid:20170213T210000
DTEND;TZID=Europe/Madrid:20170213T220000
DTSTAMP:20260421T111645
CREATED:20170104T092015Z
LAST-MODIFIED:20170104T092015Z
UID:15729-1487019600-1487023200@trescaidas.org
SUMMARY:Misa hermanos difuntos
DESCRIPTION:
URL:https://trescaidas.org/agenda/misa-hermanos-difuntos/
LOCATION:Parroquia de San Isidoro\, C/ Luchana\, Sevilla\, 41004
CATEGORIES:Agenda
END:VEVENT
BEGIN:VEVENT
DTSTART;TZID=Europe/Madrid:20170212T160000
DTEND;TZID=Europe/Madrid:20170212T180000
DTSTAMP:20260421T111645
CREATED:20170130T183511Z
LAST-MODIFIED:20170130T183511Z
UID:15742-1486915200-1486922400@trescaidas.org
SUMMARY:Comida de hermandad
DESCRIPTION:
URL:https://trescaidas.org/agenda/comida-de-hermandad/
LOCATION:Hotel Fernando III\, San José 21\, Sevilla\, 41004
CATEGORIES:Agenda
END:VEVENT
BEGIN:VEVENT
DTSTART;TZID=Europe/Madrid:20170212T140000
DTEND;TZID=Europe/Madrid:20170212T153000
DTSTAMP:20260421T111645
CREATED:20170104T091841Z
LAST-MODIFIED:20170104T091841Z
UID:15728-1486908000-1486913400@trescaidas.org
SUMMARY:Solemne Función Principal de Instituto
DESCRIPTION:
URL:https://trescaidas.org/agenda/solemne-funcion-principal-de-instituto/
LOCATION:Parroquia de San Isidoro\, C/ Luchana\, Sevilla\, 41004
CATEGORIES:Agenda
END:VEVENT
BEGIN:VEVENT
DTSTART;TZID=Europe/Madrid:20170211T213000
DTEND;TZID=Europe/Madrid:20170211T223000
DTSTAMP:20260421T111645
CREATED:20170104T091732Z
LAST-MODIFIED:20170104T091732Z
UID:15727-1486848600-1486852200@trescaidas.org
SUMMARY:Novena a Ntro. P. Jesús de las Tres Caídas y Procesión Claustral
DESCRIPTION:
URL:https://trescaidas.org/agenda/novena-a-ntro-p-jesus-de-las-tres-caidas-y-procesion-claustral/
LOCATION:Parroquia de San Isidoro\, C/ Luchana\, Sevilla\, 41004
CATEGORIES:Agenda
END:VEVENT
BEGIN:VEVENT
DTSTART;TZID=Europe/Madrid:20170210T213000
DTEND;TZID=Europe/Madrid:20170210T223000
DTSTAMP:20260421T111645
CREATED:20170104T091629Z
LAST-MODIFIED:20170104T091629Z
UID:15726-1486762200-1486765800@trescaidas.org
SUMMARY:Novena a Ntro. P. Jesús de las Tres Caídas
DESCRIPTION:
URL:https://trescaidas.org/agenda/novena-a-ntro-p-jesus-de-las-tres-caidas-7/
LOCATION:Parroquia de San Isidoro\, C/ Luchana\, Sevilla\, 41004
CATEGORIES:Agenda
END:VEVENT
BEGIN:VEVENT
DTSTART;TZID=Europe/Madrid:20170209T213000
DTEND;TZID=Europe/Madrid:20170209T223000
DTSTAMP:20260421T111645
CREATED:20170130T182921Z
LAST-MODIFIED:20170130T182921Z
UID:15740-1486675800-1486679400@trescaidas.org
SUMMARY:Bodas de Plata: Entrega de diplomas
DESCRIPTION:
URL:https://trescaidas.org/agenda/bodas-de-plata-entrega-de-diplomas/
LOCATION:Parroquia de San Isidoro\, C/ Luchana\, Sevilla\, 41004
CATEGORIES:Agenda
END:VEVENT
BEGIN:VEVENT
DTSTART;TZID=Europe/Madrid:20170209T213000
DTEND;TZID=Europe/Madrid:20170209T223000
DTSTAMP:20260421T111645
CREATED:20170104T091553Z
LAST-MODIFIED:20170104T091553Z
UID:15725-1486675800-1486679400@trescaidas.org
SUMMARY:Novena a Ntro. P. Jesús de las Tres Caídas
DESCRIPTION:
URL:https://trescaidas.org/agenda/novena-a-ntro-p-jesus-de-las-tres-caidas-6/
LOCATION:Parroquia de San Isidoro\, C/ Luchana\, Sevilla\, 41004
CATEGORIES:Agenda
END:VEVENT
BEGIN:VEVENT
DTSTART;TZID=Europe/Madrid:20170208T213000
DTEND;TZID=Europe/Madrid:20170208T223000
DTSTAMP:20260421T111645
CREATED:20170104T091509Z
LAST-MODIFIED:20170104T091509Z
UID:15724-1486589400-1486593000@trescaidas.org
SUMMARY:Novena a Ntro. P. Jesús de las Tres Caídas
DESCRIPTION:
URL:https://trescaidas.org/agenda/novena-a-ntro-p-jesus-de-las-tres-caidas-5/
LOCATION:Parroquia de San Isidoro\, C/ Luchana\, Sevilla\, 41004
CATEGORIES:Agenda
END:VEVENT
BEGIN:VEVENT
DTSTART;TZID=Europe/Madrid:20170207T213000
DTEND;TZID=Europe/Madrid:20170207T223000
DTSTAMP:20260421T111645
CREATED:20170104T091423Z
LAST-MODIFIED:20170104T091423Z
UID:15723-1486503000-1486506600@trescaidas.org
SUMMARY:Novena a Ntro. P. Jesús de las Tres Caídas
DESCRIPTION:
URL:https://trescaidas.org/agenda/novena-a-ntro-p-jesus-de-las-tres-caidas-4/
LOCATION:Parroquia de San Isidoro\, C/ Luchana\, Sevilla\, 41004
CATEGORIES:Agenda
END:VEVENT
BEGIN:VEVENT
DTSTART;TZID=Europe/Madrid:20170206T213000
DTEND;TZID=Europe/Madrid:20170206T223000
DTSTAMP:20260421T111645
CREATED:20170104T091307Z
LAST-MODIFIED:20170104T091307Z
UID:15722-1486416600-1486420200@trescaidas.org
SUMMARY:Novena a Ntro. P. Jesús de las Tres Caídas
DESCRIPTION:
URL:https://trescaidas.org/agenda/novena-a-ntro-p-jesus-de-las-tres-caidas-3/
LOCATION:Parroquia de San Isidoro\, C/ Luchana\, Sevilla\, 41004
CATEGORIES:Agenda
END:VEVENT
BEGIN:VEVENT
DTSTART;TZID=Europe/Madrid:20170206T120000
DTEND;TZID=Europe/Madrid:20170208T210000
DTSTAMP:20260421T111645
CREATED:20170104T092117Z
LAST-MODIFIED:20170104T092117Z
UID:15730-1486382400-1486587600@trescaidas.org
SUMMARY:Jubileo Circular
DESCRIPTION:
URL:https://trescaidas.org/agenda/jubileo-circular/
LOCATION:Parroquia de San Isidoro\, C/ Luchana\, Sevilla\, 41004
CATEGORIES:Agenda
END:VEVENT
BEGIN:VEVENT
DTSTART;TZID=Europe/Madrid:20170205T213000
DTEND;TZID=Europe/Madrid:20170205T223000
DTSTAMP:20260421T111645
CREATED:20170104T091226Z
LAST-MODIFIED:20170104T091226Z
UID:15721-1486330200-1486333800@trescaidas.org
SUMMARY:Novena a Ntro. P. Jesús de las Tres Caídas
DESCRIPTION:
URL:https://trescaidas.org/agenda/novena-a-ntro-p-jesus-de-las-tres-caidas-2/
LOCATION:Parroquia de San Isidoro\, C/ Luchana\, Sevilla\, 41004
CATEGORIES:Agenda
END:VEVENT
BEGIN:VEVENT
DTSTART;TZID=Europe/Madrid:20170204T213000
DTEND;TZID=Europe/Madrid:20170204T223000
DTSTAMP:20260421T111645
CREATED:20170104T091117Z
LAST-MODIFIED:20170104T091117Z
UID:15720-1486243800-1486247400@trescaidas.org
SUMMARY:Novena a Ntro. P. Jesús de las Tres Caídas
DESCRIPTION:
URL:https://trescaidas.org/agenda/novena-a-ntro-p-jesus-de-las-tres-caidas/
LOCATION:Parroquia de San Isidoro\, C/ Luchana\, Sevilla\, 41004
CATEGORIES:Agenda
END:VEVENT
BEGIN:VEVENT
DTSTART;TZID=Europe/Madrid:20170203T213000
DTEND;TZID=Europe/Madrid:20170203T223000
DTSTAMP:20260421T111645
CREATED:20170104T090943Z
LAST-MODIFIED:20170104T090943Z
UID:15719-1486157400-1486161000@trescaidas.org
SUMMARY:Novena a Ntro. Padre Jesús de las Tres Caídas
DESCRIPTION:
URL:https://trescaidas.org/agenda/novena-a-ntro-padre-jesus-de-las-tres-caidas/
LOCATION:Parroquia de San Isidoro\, C/ Luchana\, Sevilla\, 41004
CATEGORIES:Agenda
END:VEVENT
BEGIN:VEVENT
DTSTART;TZID=Europe/Madrid:20170102T190000
DTEND;TZID=Europe/Madrid:20170102T213000
DTSTAMP:20260421T111645
CREATED:20161220T200222Z
LAST-MODIFIED:20161220T200222Z
UID:15712-1483383600-1483392600@trescaidas.org
SUMMARY:Visita del Cartero Real de Sus Majestades los Reyes Magos de Oriente
DESCRIPTION:
URL:https://trescaidas.org/agenda/visita-del-cartero-real-de-sus-majestades-los-reyes-magos-de-oriente/
LOCATION:Casa de Hermandad\, Augusto Plasencia 3\, Sevilla\, 41004\, España
CATEGORIES:Agenda
END:VEVENT
BEGIN:VEVENT
DTSTART;TZID=Europe/Madrid:20161219T213000
DTEND;TZID=Europe/Madrid:20161219T223000
DTSTAMP:20260421T111645
CREATED:20161130T214516Z
LAST-MODIFIED:20161206T114706Z
UID:15655-1482183000-1482186600@trescaidas.org
SUMMARY:Conferencia "La Inmaculada"
DESCRIPTION:Conferencia de adviento sobre la Inmaculada a cargo del Rvdo. P. D. Marcelino Manzano Vilches
URL:https://trescaidas.org/agenda/conferencia-la-inmaculada/
LOCATION:Parroquia de San Isidoro\, C/ Luchana\, Sevilla\, 41004
CATEGORIES:Agenda
END:VEVENT
END:VCALENDAR