BEGIN:VCALENDAR
VERSION:2.0
PRODID:-//Antigua e Ilustre Hermandad del Santísimo Sacramento, María Stma. de las Nieves y Ánimas Benditas del Purgatorio y Pontificia y Real Archicofradía de Nazarenos de Nuestro Padre Jesús de las Tres Caídas, Nuestra Señora de Loreto y Señor San Isidoro - ECPv6.15.20//NONSGML v1.0//EN
CALSCALE:GREGORIAN
METHOD:PUBLISH
X-ORIGINAL-URL:https://trescaidas.org
X-WR-CALDESC:Eventos para Antigua e Ilustre Hermandad del Santísimo Sacramento, María Stma. de las Nieves y Ánimas Benditas del Purgatorio y Pontificia y Real Archicofradía de Nazarenos de Nuestro Padre Jesús de las Tres Caídas, Nuestra Señora de Loreto y Señor San Isidoro
REFRESH-INTERVAL;VALUE=DURATION:PT1H
X-Robots-Tag:noindex
X-PUBLISHED-TTL:PT1H
BEGIN:VTIMEZONE
TZID:Europe/Madrid
BEGIN:DAYLIGHT
TZOFFSETFROM:+0100
TZOFFSETTO:+0200
TZNAME:CEST
DTSTART:20160327T010000
END:DAYLIGHT
BEGIN:STANDARD
TZOFFSETFROM:+0200
TZOFFSETTO:+0100
TZNAME:CET
DTSTART:20161030T010000
END:STANDARD
BEGIN:DAYLIGHT
TZOFFSETFROM:+0100
TZOFFSETTO:+0200
TZNAME:CEST
DTSTART:20170326T010000
END:DAYLIGHT
BEGIN:STANDARD
TZOFFSETFROM:+0200
TZOFFSETTO:+0100
TZNAME:CET
DTSTART:20171029T010000
END:STANDARD
BEGIN:DAYLIGHT
TZOFFSETFROM:+0100
TZOFFSETTO:+0200
TZNAME:CEST
DTSTART:20180325T010000
END:DAYLIGHT
BEGIN:STANDARD
TZOFFSETFROM:+0200
TZOFFSETTO:+0100
TZNAME:CET
DTSTART:20181028T010000
END:STANDARD
BEGIN:DAYLIGHT
TZOFFSETFROM:+0100
TZOFFSETTO:+0200
TZNAME:CEST
DTSTART:20190331T010000
END:DAYLIGHT
BEGIN:STANDARD
TZOFFSETFROM:+0200
TZOFFSETTO:+0100
TZNAME:CET
DTSTART:20191027T010000
END:STANDARD
END:VTIMEZONE
BEGIN:VEVENT
DTSTART;TZID=Europe/Madrid:20180316T210000
DTEND;TZID=Europe/Madrid:20180316T223000
DTSTAMP:20260421T013253
CREATED:20171225T190028Z
LAST-MODIFIED:20171225T190223Z
UID:16148-1521234000-1521239400@trescaidas.org
SUMMARY:Meditación ante Nuestro Padre Jesús de las Tres Caídas e inicio del Besamanos
DESCRIPTION:
URL:https://trescaidas.org/agenda/meditacion-ante-nuestro-padre-jesus-de-las-tres-caidas-e-inicio-del-besamanos/
CATEGORIES:Agenda
END:VEVENT
BEGIN:VEVENT
DTSTART;TZID=Europe/Madrid:20180315T210000
DTEND;TZID=Europe/Madrid:20180315T220000
DTSTAMP:20260421T013253
CREATED:20180304T094956Z
LAST-MODIFIED:20180304T094956Z
UID:16233-1521147600-1521151200@trescaidas.org
SUMMARY:Recogida Papeletas de Sitio Navetas
DESCRIPTION:
URL:https://trescaidas.org/agenda/recogida-papeletas-de-sitio-navetas-2/
CATEGORIES:Agenda
END:VEVENT
BEGIN:VEVENT
DTSTART;TZID=Europe/Madrid:20180312T210000
DTEND;TZID=Europe/Madrid:20180313T230000
DTSTAMP:20260421T013253
CREATED:20180129T201241Z
LAST-MODIFIED:20180129T201241Z
UID:16188-1520888400-1520982000@trescaidas.org
SUMMARY:Reparto de papeletas de sitio
DESCRIPTION:
URL:https://trescaidas.org/agenda/reparto-de-papeletas-de-sitio-8/
CATEGORIES:Agenda
END:VEVENT
BEGIN:VEVENT
DTSTART;TZID=Europe/Madrid:20180310T120000
DTEND;TZID=Europe/Madrid:20180310T140000
DTSTAMP:20260421T013253
CREATED:20180304T094737Z
LAST-MODIFIED:20180304T094845Z
UID:16232-1520683200-1520690400@trescaidas.org
SUMMARY:Priostía infantil
DESCRIPTION:
URL:https://trescaidas.org/agenda/recogida-papeletas-de-sitio-navetas/
CATEGORIES:Agenda
END:VEVENT
BEGIN:VEVENT
DTSTART;TZID=Europe/Madrid:20180310T110000
DTEND;TZID=Europe/Madrid:20180310T150000
DTSTAMP:20260421T013253
CREATED:20180129T201155Z
LAST-MODIFIED:20180129T201155Z
UID:16187-1520679600-1520694000@trescaidas.org
SUMMARY:Reparto de papeletas de sitio
DESCRIPTION:
URL:https://trescaidas.org/agenda/reparto-de-papeletas-de-sitio-7/
CATEGORIES:Agenda
END:VEVENT
BEGIN:VEVENT
DTSTART;TZID=Europe/Madrid:20180309T194500
DTEND;TZID=Europe/Madrid:20180309T220000
DTSTAMP:20260421T013253
CREATED:20180304T095130Z
LAST-MODIFIED:20180304T095130Z
UID:16234-1520624700-1520632800@trescaidas.org
SUMMARY:Jura de nuevos hermanos mayores de 10 años
DESCRIPTION:
URL:https://trescaidas.org/agenda/jura-de-nuevos-hermanos-mayores-de-10-anos/
CATEGORIES:Agenda
END:VEVENT
BEGIN:VEVENT
DTSTART;TZID=Europe/Madrid:20180305T210000
DTEND;TZID=Europe/Madrid:20180308T230000
DTSTAMP:20260421T013253
CREATED:20180129T201057Z
LAST-MODIFIED:20180129T201057Z
UID:16186-1520283600-1520550000@trescaidas.org
SUMMARY:Reparto de papeletas de sitio
DESCRIPTION:
URL:https://trescaidas.org/agenda/reparto-de-papeletas-de-sitio-6/
CATEGORIES:Agenda
END:VEVENT
BEGIN:VEVENT
DTSTART;TZID=Europe/Madrid:20180222T220000
DTEND;TZID=Europe/Madrid:20180222T230000
DTSTAMP:20260421T013253
CREATED:20180221T144727Z
LAST-MODIFIED:20180221T144727Z
UID:16221-1519336800-1519340400@trescaidas.org
SUMMARY:Cabildo General Ordinario de Salida
DESCRIPTION:
URL:https://trescaidas.org/agenda/cabildo-general-ordinario-de-salida/
CATEGORIES:Agenda
END:VEVENT
BEGIN:VEVENT
DTSTART;TZID=Europe/Madrid:20180217T010000
DTEND;TZID=Europe/Madrid:20180217T140000
DTSTAMP:20260421T013253
CREATED:20171225T185713Z
LAST-MODIFIED:20171225T185713Z
UID:16146-1518829200-1518876000@trescaidas.org
SUMMARY:Retiro espiritual de Cuaresma
DESCRIPTION:
URL:https://trescaidas.org/agenda/retiro-espiritual-de-cuaresma/
CATEGORIES:Agenda
END:VEVENT
BEGIN:VEVENT
DTSTART;TZID=Europe/Madrid:20180214T210000
DTEND;TZID=Europe/Madrid:20180214T213000
DTSTAMP:20260421T013253
CREATED:20171225T185608Z
LAST-MODIFIED:20171225T185608Z
UID:16145-1518642000-1518643800@trescaidas.org
SUMMARY:Miércoles de Ceniza. Solemne Misa e imposición de las cenizas
DESCRIPTION:
URL:https://trescaidas.org/agenda/miercoles-de-ceniza-solemne-misa-e-imposicion-de-las-cenizas/
CATEGORIES:Agenda
END:VEVENT
BEGIN:VEVENT
DTSTART;TZID=Europe/Madrid:20180213T210000
DTEND;TZID=Europe/Madrid:20180213T220000
DTSTAMP:20260421T013253
CREATED:20171225T185404Z
LAST-MODIFIED:20171225T185404Z
UID:16144-1518555600-1518559200@trescaidas.org
SUMMARY:Turno de adoración al Santísimo. Luz y Vela. Parroquia de Santa Cruz
DESCRIPTION:
URL:https://trescaidas.org/agenda/turno-de-adoracion-al-santisimo-luz-y-vela-parroquia-de-santa-cruz/
CATEGORIES:Agenda
END:VEVENT
BEGIN:VEVENT
DTSTART;TZID=Europe/Madrid:20180212T210000
DTEND;TZID=Europe/Madrid:20180212T213000
DTSTAMP:20260421T013253
CREATED:20171225T185235Z
LAST-MODIFIED:20171225T185235Z
UID:16143-1518469200-1518471000@trescaidas.org
SUMMARY:Misa en sufragio por las almas de nuestros hermanos difuntos
DESCRIPTION:
URL:https://trescaidas.org/agenda/misa-en-sufragio-por-las-almas-de-nuestros-hermanos-difuntos/
CATEGORIES:Agenda
END:VEVENT
BEGIN:VEVENT
DTSTART;TZID=Europe/Madrid:20180211T140000
DTEND;TZID=Europe/Madrid:20180211T160000
DTSTAMP:20260421T013253
CREATED:20171225T185129Z
LAST-MODIFIED:20171225T185129Z
UID:16142-1518357600-1518364800@trescaidas.org
SUMMARY:Solemne Función Principal de Instituto
DESCRIPTION:
URL:https://trescaidas.org/agenda/solemne-funcion-principal-de-instituto-2/
CATEGORIES:Agenda
END:VEVENT
BEGIN:VEVENT
DTSTART;TZID=Europe/Madrid:20180206T110000
DTEND;TZID=Europe/Madrid:20180208T210000
DTSTAMP:20260421T013253
CREATED:20171225T184845Z
LAST-MODIFIED:20171225T184845Z
UID:16141-1517914800-1518123600@trescaidas.org
SUMMARY:Jubileo Circular de las 40 horas
DESCRIPTION:
URL:https://trescaidas.org/agenda/jubileo-circular-de-las-40-horas-2/
CATEGORIES:Agenda
END:VEVENT
BEGIN:VEVENT
DTSTART;TZID=Europe/Madrid:20180202T213000
DTEND;TZID=Europe/Madrid:20180210T223000
DTSTAMP:20260421T013253
CREATED:20171225T184642Z
LAST-MODIFIED:20171225T192616Z
UID:16140-1517607000-1518301800@trescaidas.org
SUMMARY:Novena en honor a Nuestro Padre Jesús de las Tres Caídas
DESCRIPTION:
URL:https://trescaidas.org/agenda/novena-en-honor-a-nuestro-padre-jesus-de-las-tres-caidas/
CATEGORIES:Agenda
END:VEVENT
BEGIN:VEVENT
DTSTART;TZID=Europe/Madrid:20180201T020000
DTEND;TZID=Europe/Madrid:20180223T140000
DTSTAMP:20260421T013253
CREATED:20180129T200946Z
LAST-MODIFIED:20180129T200946Z
UID:16185-1517450400-1519394400@trescaidas.org
SUMMARY:SOLICITUD DE SITIO EN LA COFRADIA
DESCRIPTION:
URL:https://trescaidas.org/agenda/solicitud-de-sitio-en-la-cofradia/
CATEGORIES:Agenda
END:VEVENT
BEGIN:VEVENT
DTSTART;TZID=Europe/Madrid:20180102T190000
DTEND;TZID=Europe/Madrid:20180102T210000
DTSTAMP:20260421T013253
CREATED:20171225T193014Z
LAST-MODIFIED:20171225T193014Z
UID:16164-1514919600-1514926800@trescaidas.org
SUMMARY:Visita del Cartero Real de SSMM los Reyes Magos de Oriente
DESCRIPTION:
URL:https://trescaidas.org/agenda/visita-del-cartero-real-de-ssmm-los-reyes-magos-de-oriente/
CATEGORIES:Agenda
END:VEVENT
BEGIN:VEVENT
DTSTART;TZID=Europe/Madrid:20171216T120000
DTEND;TZID=Europe/Madrid:20171217T220000
DTSTAMP:20260421T013253
CREATED:20171201T170948Z
LAST-MODIFIED:20171201T170948Z
UID:16111-1513425600-1513548000@trescaidas.org
SUMMARY:BESAMANOS A NUESTRA SEÑORA DE LORETO
DESCRIPTION:
URL:https://trescaidas.org/agenda/besamanos-a-nuestra-senora-de-loreto/
END:VEVENT
BEGIN:VEVENT
DTSTART;TZID=Europe/Madrid:20171215T210000
DTEND;TZID=Europe/Madrid:20171215T220000
DTSTAMP:20260421T013253
CREATED:20171214T191228Z
LAST-MODIFIED:20171214T191228Z
UID:16132-1513371600-1513375200@trescaidas.org
SUMMARY:CONFERENCIA PRESENTACIÓN LIBRO SOBRE LA HERMANDAD EN EL SIGLO XVIII
DESCRIPTION:
URL:https://trescaidas.org/agenda/conferencia-presentacion-libro-sobre-la-hermandad-en-el-siglo-xviii/
END:VEVENT
BEGIN:VEVENT
DTSTART;TZID=Europe/Madrid:20171210T010000
DTEND;TZID=Europe/Madrid:20171210T150000
DTSTAMP:20260421T013253
CREATED:20171201T170732Z
LAST-MODIFIED:20171201T170808Z
UID:16110-1512867600-1512918000@trescaidas.org
SUMMARY:SOLEMNE MISA ESTACIONAL EN HONOR DE NUESTRA SEÑORA DE LORETO
DESCRIPTION:
URL:https://trescaidas.org/agenda/solemne-misa-estacional-en-honor-de-nuestra-senora-de-loreto/
CATEGORIES:Agenda
END:VEVENT
BEGIN:VEVENT
DTSTART;TZID=Europe/Madrid:20171207T210000
DTEND;TZID=Europe/Madrid:20171209T220000
DTSTAMP:20260421T013253
CREATED:20171201T170609Z
LAST-MODIFIED:20171201T170609Z
UID:16109-1512680400-1512856800@trescaidas.org
SUMMARY:TRIDUO A NUESTRA SEÑORA DE LORETO
DESCRIPTION:
URL:https://trescaidas.org/agenda/triduo-a-nuestra-senora-de-loreto/
END:VEVENT
BEGIN:VEVENT
DTSTART;TZID=Europe/Madrid:20171202T010000
DTEND;TZID=Europe/Madrid:20171202T140000
DTSTAMP:20260421T013253
CREATED:20171201T170445Z
LAST-MODIFIED:20171201T170445Z
UID:16108-1512176400-1512223200@trescaidas.org
SUMMARY:RETIRO DE ADVIENTO
DESCRIPTION:
URL:https://trescaidas.org/agenda/retiro-de-adviento-2/
CATEGORIES:Agenda
END:VEVENT
BEGIN:VEVENT
DTSTART;TZID=Europe/Madrid:20171123T220000
DTEND;TZID=Europe/Madrid:20171123T230000
DTSTAMP:20260421T013253
CREATED:20171107T070629Z
LAST-MODIFIED:20171107T070629Z
UID:16099-1511474400-1511478000@trescaidas.org
SUMMARY:CABILDO GENERAL ORDINARIO DE CUENTAS\, PRESUPUESTO Y MEMORIA DE ACTIVIDADES
DESCRIPTION:
URL:https://trescaidas.org/agenda/cabildo-general-ordinario-de-cuentas-presupuesto-y-memoria-de-actividades/
CATEGORIES:Agenda
ATTACH;FMTTYPE=image/jpeg:https://trescaidas.org/wp-content/uploads/2017/11/Cabildo-General.jpg
END:VEVENT
BEGIN:VEVENT
DTSTART;TZID=Europe/Madrid:20171117T210000
DTEND;TZID=Europe/Madrid:20171117T220000
DTSTAMP:20260421T013253
CREATED:20171114T204901Z
LAST-MODIFIED:20171114T204901Z
UID:16104-1510952400-1510956000@trescaidas.org
SUMMARY:MISA SOLEMNE EN SUFRAGIO POR LAS ÁNIMAS BENDITAS DEL PURGATORIO
DESCRIPTION:
URL:https://trescaidas.org/agenda/misa-solemne-en-sufragio-por-las-animas-benditas-del-purgatorio/
END:VEVENT
BEGIN:VEVENT
DTSTART;TZID=Europe/Madrid:20171029T110000
DTEND;TZID=Europe/Madrid:20171029T200000
DTSTAMP:20260421T013253
CREATED:20171022T154845Z
LAST-MODIFIED:20171022T154845Z
UID:16092-1509274800-1509307200@trescaidas.org
SUMMARY:JORNADA CONFRATERNIZACIÓN ACAR TABLADA
DESCRIPTION:
URL:https://trescaidas.org/agenda/jornada-confraternizacion-acar-tablada/
CATEGORIES:Agenda
ATTACH;FMTTYPE=image/jpeg:https://trescaidas.org/wp-content/uploads/2017/10/Jornada-Confrat-Tablada.jpeg
END:VEVENT
BEGIN:VEVENT
DTSTART;TZID=Europe/Madrid:20171006T203000
DTEND;TZID=Europe/Madrid:20171006T213000
DTSTAMP:20260421T013253
CREATED:20170924T160717Z
LAST-MODIFIED:20170924T160717Z
UID:16083-1507321800-1507325400@trescaidas.org
SUMMARY:REUNIÓN CATEQUESIS CONFIRMACIÓN
DESCRIPTION:Con el inicio del nuevo Curso Pastoral\, nuestra Hermandad en colaboración directa con la Parroquia\, vuelve a poner en marcha las Catequesis de Confirmación de jóvenes y adultos (mayores de 18 años). Por ello se convoca a todos aquellos Hermanos y devotos interesados a iniciar la formación necesaria para recibir dicho sacramento el próximo viernes día 6 de octubre a las 18:30 H. en las dependencias de nuestra Hermandad. \nEs importante que dediques un tiempo a profundizar en tu fe\, a reflexionar sobre lo que significa ser creyente\, a conocer las exigencias que plantea. Todo esto te ayudará\, sin duda\, a descubrir que vale la pena vivir la vida desde la perspectiva de la fe y a reafirmar tu decisión de ser creyente. \nCon ese objetivo te ofrecemos el Sacramento de la Confirmación. Te ayudará a plantearte las grandes pre­guntas de la vida\, a encontrarte con la persona de Jesús y su mensaje\, a descubrir la Iglesia como la comunidad de creyentes que sigue a Jesús\, a percibir los sacramentos como encuentros con el Señor que fortalecen el caminar en la vida. \nPara más información\, contactar con la Hermandad a través de su correo secretaria@trescaidas.org\, o telefónicamente con el Diputado de Formación (666397267) o responsables de catequesis (605844947).
URL:https://trescaidas.org/agenda/reunion-catequesis-confirmacion/
CATEGORIES:Agenda
END:VEVENT
BEGIN:VEVENT
DTSTART;TZID=Europe/Madrid:20170912T100000
DTEND;TZID=Europe/Madrid:20170912T190000
DTSTAMP:20260421T013253
CREATED:20170912T172033Z
LAST-MODIFIED:20170912T172033Z
UID:16076-1505210400-1505242800@trescaidas.org
SUMMARY:Misa Solemne en honor a María Santísima de la Nieves
DESCRIPTION:El viernes 15 de septiembre a las 20 horas celebraremos la tradicional Misa Solemne en honor a María Santísima de las Nieves con la que se inagura el curso cofrade
URL:https://trescaidas.org/agenda/misa-solemne-en-honor-a-maria-santisima-de-la-nieves/
END:VEVENT
BEGIN:VEVENT
DTSTART;TZID=Europe/Madrid:20170630T220000
DTEND;TZID=Europe/Madrid:20170630T223000
DTSTAMP:20260421T013253
CREATED:20170619T164637Z
LAST-MODIFIED:20170619T164637Z
UID:16054-1498860000-1498861800@trescaidas.org
SUMMARY:Misa por el proceso de Beatificación de Nuestro Hermano D. Antonio Amundarain
DESCRIPTION:A las 20 horas\, Santa Misa que ofrece la Hermandad por el proceso de beatificación de Nuestro Hermano D. Antonio Amundarain Garmendia.
URL:https://trescaidas.org/agenda/misa-por-el-proceso-de-beatificacion-de-nuestro-hermano-d-antonio-amundarain/
CATEGORIES:Agenda
ATTACH;FMTTYPE=image/jpeg:https://trescaidas.org/wp-content/uploads/2016/02/amundarain_copia-3-7fffe.jpg
END:VEVENT
BEGIN:VEVENT
DTSTART;TZID=Europe/Madrid:20170621T223000
DTEND;TZID=Europe/Madrid:20170622T000000
DTSTAMP:20260421T013253
CREATED:20170619T164340Z
LAST-MODIFIED:20170619T164340Z
UID:16053-1498084200-1498089600@trescaidas.org
SUMMARY:CONVIVENCIA HERMANDADES SACRAMENTALES
DESCRIPTION:Miércoles 21 de junio a las 20:30 horas en la Parroquia de San Julián\, organizada por la Hermandad de la Hiniesta.
URL:https://trescaidas.org/agenda/convivencia-hermandades-sacramentales/
CATEGORIES:Agenda
END:VEVENT
BEGIN:VEVENT
DTSTART;TZID=Europe/Madrid:20170619T230000
DTEND;TZID=Europe/Madrid:20170620T000000
DTSTAMP:20260421T013253
CREATED:20170226T173619Z
LAST-MODIFIED:20170226T173619Z
UID:15879-1497913200-1497916800@trescaidas.org
SUMMARY:5ª Sesión IV Foro Lumen Fidei
DESCRIPTION:“Santas desde la Cruz … Sor Ángela de la Cruz\, Madre de los pobres”. A cargo del M. Ilustre Sr. D. José Luis García de la Mata\, Canónigo de la S.I. Catedral de Sevilla\, y Vicario Parroquial de la de San Sebastián.
URL:https://trescaidas.org/agenda/5a-sesion-iv-foro-lumen-fidei/
LOCATION:Parroquia de Santa Cruz\, C/ Mateos Gagos\, Sevilla
CATEGORIES:Agenda
END:VEVENT
END:VCALENDAR