BEGIN:VCALENDAR
VERSION:2.0
PRODID:-//Antigua e Ilustre Hermandad del Santísimo Sacramento, María Stma. de las Nieves y Ánimas Benditas del Purgatorio y Pontificia y Real Archicofradía de Nazarenos de Nuestro Padre Jesús de las Tres Caídas, Nuestra Señora de Loreto y Señor San Isidoro - ECPv6.15.20//NONSGML v1.0//EN
CALSCALE:GREGORIAN
METHOD:PUBLISH
X-WR-CALNAME:Antigua e Ilustre Hermandad del Santísimo Sacramento, María Stma. de las Nieves y Ánimas Benditas del Purgatorio y Pontificia y Real Archicofradía de Nazarenos de Nuestro Padre Jesús de las Tres Caídas, Nuestra Señora de Loreto y Señor San Isidoro
X-ORIGINAL-URL:https://trescaidas.org
X-WR-CALDESC:Eventos para Antigua e Ilustre Hermandad del Santísimo Sacramento, María Stma. de las Nieves y Ánimas Benditas del Purgatorio y Pontificia y Real Archicofradía de Nazarenos de Nuestro Padre Jesús de las Tres Caídas, Nuestra Señora de Loreto y Señor San Isidoro
REFRESH-INTERVAL;VALUE=DURATION:PT1H
X-Robots-Tag:noindex
X-PUBLISHED-TTL:PT1H
BEGIN:VTIMEZONE
TZID:Europe/Madrid
BEGIN:DAYLIGHT
TZOFFSETFROM:+0100
TZOFFSETTO:+0200
TZNAME:CEST
DTSTART:20170326T010000
END:DAYLIGHT
BEGIN:STANDARD
TZOFFSETFROM:+0200
TZOFFSETTO:+0100
TZNAME:CET
DTSTART:20171029T010000
END:STANDARD
BEGIN:DAYLIGHT
TZOFFSETFROM:+0100
TZOFFSETTO:+0200
TZNAME:CEST
DTSTART:20180325T010000
END:DAYLIGHT
BEGIN:STANDARD
TZOFFSETFROM:+0200
TZOFFSETTO:+0100
TZNAME:CET
DTSTART:20181028T010000
END:STANDARD
BEGIN:DAYLIGHT
TZOFFSETFROM:+0100
TZOFFSETTO:+0200
TZNAME:CEST
DTSTART:20190331T010000
END:DAYLIGHT
BEGIN:STANDARD
TZOFFSETFROM:+0200
TZOFFSETTO:+0100
TZNAME:CET
DTSTART:20191027T010000
END:STANDARD
END:VTIMEZONE
BEGIN:VEVENT
DTSTART;TZID=Europe/Madrid:20181125T140000
DTEND;TZID=Europe/Madrid:20181125T150000
DTSTAMP:20260420T223333
CREATED:20181108T101709Z
LAST-MODIFIED:20181108T101832Z
UID:16311-1543154400-1543158000@trescaidas.org
SUMMARY:MISA DE ACCIÓN DE GRACIAS POR EL 350 ANIVERSARIO DEL SEÑOR
DESCRIPTION:
URL:https://trescaidas.org/agenda/misa-de-accion-de-gracias-por-el-350-aniversario-del-senor/
CATEGORIES:Agenda
END:VEVENT
BEGIN:VEVENT
DTSTART;TZID=Europe/Madrid:20181120T210000
DTEND;TZID=Europe/Madrid:20181120T230000
DTSTAMP:20260420T223333
CREATED:20181108T101037Z
LAST-MODIFIED:20181108T101037Z
UID:16309-1542747600-1542754800@trescaidas.org
SUMMARY:CONVIVENCIA HERMANDADES DEL VIERNES SANTO
DESCRIPTION:En la Basílica del Patrocinio\, a las 20 horas.
URL:https://trescaidas.org/agenda/convivencia-hermandades-del-viernes-santo/
CATEGORIES:Agenda
END:VEVENT
BEGIN:VEVENT
DTSTART;TZID=Europe/Madrid:20181109T210000
DTEND;TZID=Europe/Madrid:20181109T220000
DTSTAMP:20260420T223333
CREATED:20181108T101152Z
LAST-MODIFIED:20181108T101152Z
UID:16310-1541797200-1541800800@trescaidas.org
SUMMARY:MISA SOLEMNE EN SUFRAGIO DE LAS ÁNIMAS BENDITAS DEL PURGATORIO
DESCRIPTION:
URL:https://trescaidas.org/agenda/misa-solemne-en-sufragio-de-las-animas-benditas-del-purgatorio/
CATEGORIES:Agenda
END:VEVENT
BEGIN:VEVENT
DTSTART;TZID=Europe/Madrid:20180922T113000
DTEND;TZID=Europe/Madrid:20180922T140000
DTSTAMP:20260420T223333
CREATED:20180911T054933Z
LAST-MODIFIED:20180911T054933Z
UID:16289-1537615800-1537624800@trescaidas.org
SUMMARY:Peregrinación Esperanza de Triana
DESCRIPTION:
URL:https://trescaidas.org/agenda/peregrinacion-esperanza-de-triana/
CATEGORIES:Agenda
END:VEVENT
BEGIN:VEVENT
DTSTART;TZID=Europe/Madrid:20180905T130000
DTEND;TZID=Europe/Madrid:20180905T190000
DTSTAMP:20260420T223333
CREATED:20180829T185213Z
LAST-MODIFIED:20180829T185213Z
UID:16284-1536152400-1536174000@trescaidas.org
SUMMARY:Convivencia de Juventud en Tablada
DESCRIPTION:
URL:https://trescaidas.org/agenda/convivencia-de-juventud-en-tablada/
CATEGORIES:Agenda
END:VEVENT
BEGIN:VEVENT
DTSTART;TZID=Europe/Madrid:20180629T220000
DTEND;TZID=Europe/Madrid:20180629T223000
DTSTAMP:20260420T223333
CREATED:20171225T192225Z
LAST-MODIFIED:20171225T192225Z
UID:16162-1530309600-1530311400@trescaidas.org
SUMMARY:Misa por el proceso de beatificación de nuestro hermano D. Antonio Amundarain Garmendia
DESCRIPTION:
URL:https://trescaidas.org/agenda/misa-por-el-proceso-de-beatificacion-de-nuestro-hermano-d-antonio-amundarain-garmendia-2/
CATEGORIES:Agenda
END:VEVENT
BEGIN:VEVENT
DTSTART;TZID=Europe/Madrid:20180606T133000
DTEND;TZID=Europe/Madrid:20180608T220000
DTSTAMP:20260420T223333
CREATED:20171225T192057Z
LAST-MODIFIED:20180605T174312Z
UID:16161-1528291800-1528495200@trescaidas.org
SUMMARY:Jubileo circular de las 40 horas
DESCRIPTION:Horario: de 11:30 a 13 horas\, y de 18:30 a 20 horas
URL:https://trescaidas.org/agenda/jubileo-circular-de-las-40-horas-3/
CATEGORIES:Agenda
END:VEVENT
BEGIN:VEVENT
DTSTART;TZID=Europe/Madrid:20180603T113000
DTEND;TZID=Europe/Madrid:20180603T140000
DTSTAMP:20260420T223333
CREATED:20171225T191949Z
LAST-MODIFIED:20180529T091506Z
UID:16160-1528025400-1528034400@trescaidas.org
SUMMARY:Función Principal de Instituto y posterior procesión eucarística con S.D.M. por las calles de la feligresía
DESCRIPTION:
URL:https://trescaidas.org/agenda/funcion-principal-de-instituto-y-posterior-procesion-eucaristica-con-s-d-m-por-las-calles-de-la-feligresia/
CATEGORIES:Agenda
END:VEVENT
BEGIN:VEVENT
DTSTART;TZID=Europe/Madrid:20180531T220000
DTEND;TZID=Europe/Madrid:20180602T230000
DTSTAMP:20260420T223333
CREATED:20171225T191814Z
LAST-MODIFIED:20171225T191814Z
UID:16159-1527804000-1527980400@trescaidas.org
SUMMARY:Solemne Triduo en honor de Jesús Sacramentado
DESCRIPTION:
URL:https://trescaidas.org/agenda/solemne-triduo-en-honor-de-jesus-sacramentado-2/
CATEGORIES:Agenda
END:VEVENT
BEGIN:VEVENT
DTSTART;TZID=Europe/Madrid:20180531T110000
DTEND;TZID=Europe/Madrid:20180531T130000
DTSTAMP:20260420T223333
CREATED:20171225T191701Z
LAST-MODIFIED:20171225T191701Z
UID:16158-1527764400-1527771600@trescaidas.org
SUMMARY:Solemne procesión del Santísimo Corpus Christi
DESCRIPTION:
URL:https://trescaidas.org/agenda/solemne-procesion-del-santisimo-corpus-christi/
CATEGORIES:Agenda
END:VEVENT
BEGIN:VEVENT
DTSTART;TZID=Europe/Madrid:20180426T220000
DTEND;TZID=Europe/Madrid:20180426T223000
DTSTAMP:20260420T223333
CREATED:20171225T191542Z
LAST-MODIFIED:20180411T140735Z
UID:16157-1524780000-1524781800@trescaidas.org
SUMMARY:Festividad del Señor San Isidoro. Misa Solemne en rito hispano-mozárabe
DESCRIPTION:
URL:https://trescaidas.org/agenda/festividad-del-senor-san-isidoro/
CATEGORIES:Agenda
END:VEVENT
BEGIN:VEVENT
DTSTART;TZID=Europe/Madrid:20180401T150000
DTEND;TZID=Europe/Madrid:20180401T160000
DTSTAMP:20260420T223333
CREATED:20171225T191435Z
LAST-MODIFIED:20171225T191435Z
UID:16156-1522594800-1522598400@trescaidas.org
SUMMARY:Domingo de Resurrección. Misa Solemne de cumplimiento pascual
DESCRIPTION:
URL:https://trescaidas.org/agenda/domingo-de-resurreccion-misa-solemne-de-cumplimiento-pascual/
CATEGORIES:Agenda
END:VEVENT
BEGIN:VEVENT
DTSTART;TZID=Europe/Madrid:20180331T220000
DTEND;TZID=Europe/Madrid:20180331T223000
DTSTAMP:20260420T223333
CREATED:20171225T191320Z
LAST-MODIFIED:20171225T191320Z
UID:16155-1522533600-1522535400@trescaidas.org
SUMMARY:Sábado Santo. Vigilia pascual
DESCRIPTION:
URL:https://trescaidas.org/agenda/sabado-santo-vigilia-pascual/
CATEGORIES:Agenda
END:VEVENT
BEGIN:VEVENT
DTSTART;TZID=Europe/Madrid:20180330T020000
DTEND;TZID=Europe/Madrid:20180330T150000
DTSTAMP:20260420T223333
CREATED:20171225T191221Z
LAST-MODIFIED:20171225T191221Z
UID:16154-1522375200-1522422000@trescaidas.org
SUMMARY:VIERNES SANTO. Acción litúrgica\, y por la tarde Estación de Penitencia
DESCRIPTION:
URL:https://trescaidas.org/agenda/viernes-santo-accion-liturgica-y-por-la-tarde-estacion-de-penitencia/
CATEGORIES:Agenda
END:VEVENT
BEGIN:VEVENT
DTSTART;TZID=Europe/Madrid:20180329T190000
DTEND;TZID=Europe/Madrid:20180330T010000
DTSTAMP:20260420T223333
CREATED:20171225T191104Z
LAST-MODIFIED:20171225T191104Z
UID:16153-1522350000-1522371600@trescaidas.org
SUMMARY:Jueves Santo. Misa en Coena Domini. Exposición del Monumento con reserva del Santísimo
DESCRIPTION:
URL:https://trescaidas.org/agenda/jueves-santo-misa-en-coena-domini-exposicion-del-monumento-con-reserva-del-santisimo/
CATEGORIES:Agenda
END:VEVENT
BEGIN:VEVENT
DTSTART;TZID=Europe/Madrid:20180325T133000
DTEND;TZID=Europe/Madrid:20180325T143000
DTSTAMP:20260420T223333
CREATED:20171225T190850Z
LAST-MODIFIED:20171225T190850Z
UID:16152-1521984600-1521988200@trescaidas.org
SUMMARY:Domingo de Ramos. Procesión de palmas y Santa Misa
DESCRIPTION:
URL:https://trescaidas.org/agenda/domingo-de-ramos-procesion-de-palmas-y-santa-misa/
CATEGORIES:Agenda
END:VEVENT
BEGIN:VEVENT
DTSTART;TZID=Europe/Madrid:20180323T210000
DTEND;TZID=Europe/Madrid:20180323T230000
DTSTAMP:20260420T223333
CREATED:20171225T190739Z
LAST-MODIFIED:20171225T190739Z
UID:16151-1521838800-1521846000@trescaidas.org
SUMMARY:Vía Crucis y traslado de Ntro. P. Jesús de las Tres Caídas a su Paso Procesional
DESCRIPTION:Viernes de Dolores. Santa Misa en honor de Nuestra Señora de Loreto\, realizándose posteriormente el ejercicio del Santo Vía Crucis\, y a continuación el traslado de la bendita imagen de Nuestro Padre Jesús de las Tres Caídas a su Paso Procesional
URL:https://trescaidas.org/agenda/via-crucis-y-traslado-de-ntro-p-jesus-de-las-tres-caidas-a-su-paso-procesional/
CATEGORIES:Agenda
END:VEVENT
BEGIN:VEVENT
DTSTART;TZID=Europe/Madrid:20180317T220000
DTEND;TZID=Europe/Madrid:20180317T230000
DTSTAMP:20260420T223333
CREATED:20171225T190433Z
LAST-MODIFIED:20171225T190433Z
UID:16150-1521324000-1521327600@trescaidas.org
SUMMARY:Traslado de Ntra. Sra. de Loreto a su Paso Procesional. Rezo de la Corona Dolorosa
DESCRIPTION:
URL:https://trescaidas.org/agenda/traslado-de-ntra-sra-de-loreto-a-su-paso-procesional-rezo-de-la-corona-dolorosa/
CATEGORIES:Agenda
END:VEVENT
BEGIN:VEVENT
DTSTART;TZID=Europe/Madrid:20180317T120000
DTEND;TZID=Europe/Madrid:20180318T213000
DTSTAMP:20260420T223333
CREATED:20171225T185840Z
LAST-MODIFIED:20171225T190151Z
UID:16147-1521288000-1521408600@trescaidas.org
SUMMARY:Devoto Besamanos a Nuestro Padre Jesús de las Tres Caídas
DESCRIPTION:
URL:https://trescaidas.org/agenda/devoto-besamanos-a-nuestro-padre-jesus-de-las-tres-caidas/
CATEGORIES:Agenda
END:VEVENT
BEGIN:VEVENT
DTSTART;TZID=Europe/Madrid:20180317T010000
DTEND;TZID=Europe/Madrid:20180317T140000
DTSTAMP:20260420T223333
CREATED:20180304T095222Z
LAST-MODIFIED:20180304T095222Z
UID:16235-1521248400-1521295200@trescaidas.org
SUMMARY:Acogida nuevos hermanos menores de 10 años
DESCRIPTION:
URL:https://trescaidas.org/agenda/acogida-nuevos-hermanos-menores-de-10-anos/
CATEGORIES:Agenda
END:VEVENT
BEGIN:VEVENT
DTSTART;TZID=Europe/Madrid:20180316T210000
DTEND;TZID=Europe/Madrid:20180316T223000
DTSTAMP:20260420T223333
CREATED:20171225T190028Z
LAST-MODIFIED:20171225T190223Z
UID:16148-1521234000-1521239400@trescaidas.org
SUMMARY:Meditación ante Nuestro Padre Jesús de las Tres Caídas e inicio del Besamanos
DESCRIPTION:
URL:https://trescaidas.org/agenda/meditacion-ante-nuestro-padre-jesus-de-las-tres-caidas-e-inicio-del-besamanos/
CATEGORIES:Agenda
END:VEVENT
BEGIN:VEVENT
DTSTART;TZID=Europe/Madrid:20180315T210000
DTEND;TZID=Europe/Madrid:20180315T220000
DTSTAMP:20260420T223333
CREATED:20180304T094956Z
LAST-MODIFIED:20180304T094956Z
UID:16233-1521147600-1521151200@trescaidas.org
SUMMARY:Recogida Papeletas de Sitio Navetas
DESCRIPTION:
URL:https://trescaidas.org/agenda/recogida-papeletas-de-sitio-navetas-2/
CATEGORIES:Agenda
END:VEVENT
BEGIN:VEVENT
DTSTART;TZID=Europe/Madrid:20180312T210000
DTEND;TZID=Europe/Madrid:20180313T230000
DTSTAMP:20260420T223333
CREATED:20180129T201241Z
LAST-MODIFIED:20180129T201241Z
UID:16188-1520888400-1520982000@trescaidas.org
SUMMARY:Reparto de papeletas de sitio
DESCRIPTION:
URL:https://trescaidas.org/agenda/reparto-de-papeletas-de-sitio-8/
CATEGORIES:Agenda
END:VEVENT
BEGIN:VEVENT
DTSTART;TZID=Europe/Madrid:20180310T120000
DTEND;TZID=Europe/Madrid:20180310T140000
DTSTAMP:20260420T223333
CREATED:20180304T094737Z
LAST-MODIFIED:20180304T094845Z
UID:16232-1520683200-1520690400@trescaidas.org
SUMMARY:Priostía infantil
DESCRIPTION:
URL:https://trescaidas.org/agenda/recogida-papeletas-de-sitio-navetas/
CATEGORIES:Agenda
END:VEVENT
BEGIN:VEVENT
DTSTART;TZID=Europe/Madrid:20180310T110000
DTEND;TZID=Europe/Madrid:20180310T150000
DTSTAMP:20260420T223333
CREATED:20180129T201155Z
LAST-MODIFIED:20180129T201155Z
UID:16187-1520679600-1520694000@trescaidas.org
SUMMARY:Reparto de papeletas de sitio
DESCRIPTION:
URL:https://trescaidas.org/agenda/reparto-de-papeletas-de-sitio-7/
CATEGORIES:Agenda
END:VEVENT
BEGIN:VEVENT
DTSTART;TZID=Europe/Madrid:20180309T194500
DTEND;TZID=Europe/Madrid:20180309T220000
DTSTAMP:20260420T223333
CREATED:20180304T095130Z
LAST-MODIFIED:20180304T095130Z
UID:16234-1520624700-1520632800@trescaidas.org
SUMMARY:Jura de nuevos hermanos mayores de 10 años
DESCRIPTION:
URL:https://trescaidas.org/agenda/jura-de-nuevos-hermanos-mayores-de-10-anos/
CATEGORIES:Agenda
END:VEVENT
BEGIN:VEVENT
DTSTART;TZID=Europe/Madrid:20180305T210000
DTEND;TZID=Europe/Madrid:20180308T230000
DTSTAMP:20260420T223333
CREATED:20180129T201057Z
LAST-MODIFIED:20180129T201057Z
UID:16186-1520283600-1520550000@trescaidas.org
SUMMARY:Reparto de papeletas de sitio
DESCRIPTION:
URL:https://trescaidas.org/agenda/reparto-de-papeletas-de-sitio-6/
CATEGORIES:Agenda
END:VEVENT
BEGIN:VEVENT
DTSTART;TZID=Europe/Madrid:20180222T220000
DTEND;TZID=Europe/Madrid:20180222T230000
DTSTAMP:20260420T223333
CREATED:20180221T144727Z
LAST-MODIFIED:20180221T144727Z
UID:16221-1519336800-1519340400@trescaidas.org
SUMMARY:Cabildo General Ordinario de Salida
DESCRIPTION:
URL:https://trescaidas.org/agenda/cabildo-general-ordinario-de-salida/
CATEGORIES:Agenda
END:VEVENT
BEGIN:VEVENT
DTSTART;TZID=Europe/Madrid:20180217T010000
DTEND;TZID=Europe/Madrid:20180217T140000
DTSTAMP:20260420T223333
CREATED:20171225T185713Z
LAST-MODIFIED:20171225T185713Z
UID:16146-1518829200-1518876000@trescaidas.org
SUMMARY:Retiro espiritual de Cuaresma
DESCRIPTION:
URL:https://trescaidas.org/agenda/retiro-espiritual-de-cuaresma/
CATEGORIES:Agenda
END:VEVENT
BEGIN:VEVENT
DTSTART;TZID=Europe/Madrid:20180214T210000
DTEND;TZID=Europe/Madrid:20180214T213000
DTSTAMP:20260420T223333
CREATED:20171225T185608Z
LAST-MODIFIED:20171225T185608Z
UID:16145-1518642000-1518643800@trescaidas.org
SUMMARY:Miércoles de Ceniza. Solemne Misa e imposición de las cenizas
DESCRIPTION:
URL:https://trescaidas.org/agenda/miercoles-de-ceniza-solemne-misa-e-imposicion-de-las-cenizas/
CATEGORIES:Agenda
END:VEVENT
END:VCALENDAR